BEGIN:VCALENDAR
VERSION:2.0
PRODID:-//GunStuff TV - ECPv6.15.20//NONSGML v1.0//EN
CALSCALE:GREGORIAN
METHOD:PUBLISH
X-WR-CALNAME:GunStuff TV
X-ORIGINAL-URL:https://gunstuff.tv
X-WR-CALDESC:Events for GunStuff TV
REFRESH-INTERVAL;VALUE=DURATION:PT1H
X-Robots-Tag:noindex
X-PUBLISHED-TTL:PT1H
BEGIN:VTIMEZONE
TZID:UTC
BEGIN:STANDARD
TZOFFSETFROM:+0000
TZOFFSETTO:+0000
TZNAME:UTC
DTSTART:20250101T000000
END:STANDARD
END:VTIMEZONE
BEGIN:VEVENT
DTSTART;TZID=UTC:20260426T090000
DTEND;TZID=UTC:20260426T090000
DTSTAMP:20260419T132449
CREATED:20260315T104639Z
LAST-MODIFIED:20260412T110139Z
UID:10006326-1777194000-1777194000@gunstuff.tv
SUMMARY:Appleseed
DESCRIPTION:New Durham\, NH – Farmington Fish and Game Club\nApril 26\, 2026 (One Day Event)\nThis is a traditional 25m Project Appleseed rifle event.\nBoth Centerfire and 22 Rimfire rifles are allowed at this event.\nRegister Now\nAddress: 64 Old Bay Road\, New Durham\, NH\nWebsite: farmingtonfishandgameclub.com/\nAll students must be at least 7 years old.\nPlease Read:  How to Prepare for an Event\nSafety Notice:\n–  Keep ALL firearms in your vehicle until after the safety briefing and you are instructed to bring them to the firing line.\n–  No illegal firearms are allowed.\n–  At centerfire-friendly ranges\, rifle cartridges are limited to 8mm (rifle) or .45 caliber (pistol and pistol caliber carbines).\n–  Effective 8/8/2025\, Project Appleseed has temporarily suspended the SIG-Sauer P320/M17/M18 (all variants) in our Pistol Clinics.\n–  Parents of youth attending\, please read our Message to Parents.\nSubject to state and local laws\, Instructors at your event may have discounted .22 ammo available. Reach out to the contact at the bottom of this page for availability.\nRange Fee:  No range fee.\nCamping Available:\nHotels:\nHampton Inn\, Rochester – 5 miles from range.\nGeneral Store with subs/pizza/snacks and beverages.\nMcDonalds – 5 miles.\nJohnsons Restuarant – 2 miles.\nDirections:\nGPS: 43.431700\,-71.150775\nState Laws to be aware of:\nIt is the responsibility of attendees to know and comply with all State and Federal Firearms Laws.\nNew Hampshire State Firearms Laws\nMisc:\nAll students must be at least 7 years old.\nFor more information contact:\nName: NH State Coordinator Email Address: NH@appleseedinfo.org
URL:https://gunstuff.tv/event/appleseed-299/
LOCATION:Farmington Fish and Game Club\, 64 Old Bay Rd\, New Durham\, NH\, United States
GEO:43.432309;-71.15142
X-APPLE-STRUCTURED-LOCATION;VALUE=URI;X-ADDRESS=Farmington Fish and Game Club 64 Old Bay Rd New Durham NH United States;X-APPLE-RADIUS=500;X-TITLE=64 Old Bay Rd:geo:-71.15142,43.432309
END:VEVENT
END:VCALENDAR