BEGIN:VCALENDAR
VERSION:2.0
PRODID:-//GunStuff TV - ECPv6.15.20//NONSGML v1.0//EN
CALSCALE:GREGORIAN
METHOD:PUBLISH
X-ORIGINAL-URL:https://gunstuff.tv
X-WR-CALDESC:Events for GunStuff TV
REFRESH-INTERVAL;VALUE=DURATION:PT1H
X-Robots-Tag:noindex
X-PUBLISHED-TTL:PT1H
BEGIN:VTIMEZONE
TZID:UTC
BEGIN:STANDARD
TZOFFSETFROM:+0000
TZOFFSETTO:+0000
TZNAME:UTC
DTSTART:20250101T000000
END:STANDARD
END:VTIMEZONE
BEGIN:VEVENT
DTSTART;TZID=UTC:20260822T090000
DTEND;TZID=UTC:20260822T090000
DTSTAMP:20260420T114856
CREATED:20260412T110155Z
LAST-MODIFIED:20260412T110155Z
UID:10007443-1787389200-1787389200@gunstuff.tv
SUMMARY:Libertyseed
DESCRIPTION:Fort Payne\, AL – DeSoto State Park\nAugust 22\, 2026\nAddress: 7104 DeSoto Parkway NE\, Fort Payne\, AL\nThis event is a Libertyseed. It is a speaking engagement and no firearms instruction takes place. This event is free to the public and no registration is required.\nProject Appleseed invites you to experience a LibertySeed event where our volunteers will tell the story of the birth of our Nation. These events are free to the public.\nThe 19th of April\, 1775\, a day that forever changed the course of our Nation. Why is this such an important day and who was involved in the birth of our Nation?\nIt will not be the story you think you know\, or the story you heard in school. The volunteers at the RWVA are passionate about American Heritage. We love to tell people the Story of the Three Strikes\, about ‘The Day the Shot was Heard Around the World.’ The volunteers are willing to tell the story to groups around the Nation.\nEvent will be at the Campfire Ring in the Improved Campground (In case of inclement weather event will be in the CCC Pavilion in the picnic area)\nContact info: tom.sandner@appleseedinfo.org  (256)967-9485
URL:https://gunstuff.tv/event/libertyseed-10/
LOCATION:DeSoto State Park\, 6698 Desoto Pkwy NE\, Fort Payne\, AL\, United States
GEO:34.485586;-85.625121
X-APPLE-STRUCTURED-LOCATION;VALUE=URI;X-ADDRESS=DeSoto State Park 6698 Desoto Pkwy NE Fort Payne AL United States;X-APPLE-RADIUS=500;X-TITLE=6698 Desoto Pkwy NE:geo:-85.625121,34.485586
END:VEVENT
END:VCALENDAR