BEGIN:VCALENDAR
VERSION:2.0
PRODID:-//GunStuff TV - ECPv6.15.20//NONSGML v1.0//EN
CALSCALE:GREGORIAN
METHOD:PUBLISH
X-WR-CALNAME:GunStuff TV
X-ORIGINAL-URL:https://gunstuff.tv
X-WR-CALDESC:Events for GunStuff TV
REFRESH-INTERVAL;VALUE=DURATION:PT1H
X-Robots-Tag:noindex
X-PUBLISHED-TTL:PT1H
BEGIN:VTIMEZONE
TZID:UTC
BEGIN:STANDARD
TZOFFSETFROM:+0000
TZOFFSETTO:+0000
TZNAME:UTC
DTSTART:20250101T000000
END:STANDARD
END:VTIMEZONE
BEGIN:VEVENT
DTSTART;TZID=UTC:20260418T160000
DTEND;TZID=UTC:20260418T190000
DTSTAMP:20260424T073937
CREATED:20260414T200219Z
LAST-MODIFIED:20260414T200219Z
UID:10007727-1776528000-1776538800@gunstuff.tv
SUMMARY:2G-ACM @ KRVGA APRIL 2026
DESCRIPTION:4 STAGES. COMBINATION OF RIFLE AND PISTOL TARGETS. STAGE DESIGNS MAY FEATURE MODERATE PHYSICAL CHALLENGES. MINIMUM ROUND COUNT <200 TOTAL\, TIMED.\nA COMPLETE DESCRIPTION OF EVENT RULES CAN BE FOUND AT: https://drive.google.com/file/d/1wI4Z33cHc7f6bWxasK-DplB2NJ16rC24/view?usp=sharing
URL:https://gunstuff.tv/event/2g-acm-krvga-april-2026/
LOCATION:Cyrus Canyon Road\, Kernville CA\, United States
END:VEVENT
END:VCALENDAR