BEGIN:VCALENDAR
VERSION:2.0
PRODID:-//GunStuff TV - ECPv6.15.20//NONSGML v1.0//EN
CALSCALE:GREGORIAN
METHOD:PUBLISH
X-ORIGINAL-URL:https://gunstuff.tv
X-WR-CALDESC:Events for GunStuff TV
REFRESH-INTERVAL;VALUE=DURATION:PT1H
X-Robots-Tag:noindex
X-PUBLISHED-TTL:PT1H
BEGIN:VTIMEZONE
TZID:America/New_York
BEGIN:DAYLIGHT
TZOFFSETFROM:-0500
TZOFFSETTO:-0400
TZNAME:EDT
DTSTART:20250309T070000
END:DAYLIGHT
BEGIN:STANDARD
TZOFFSETFROM:-0400
TZOFFSETTO:-0500
TZNAME:EST
DTSTART:20251102T060000
END:STANDARD
BEGIN:DAYLIGHT
TZOFFSETFROM:-0500
TZOFFSETTO:-0400
TZNAME:EDT
DTSTART:20260308T070000
END:DAYLIGHT
BEGIN:STANDARD
TZOFFSETFROM:-0400
TZOFFSETTO:-0500
TZNAME:EST
DTSTART:20261101T060000
END:STANDARD
BEGIN:DAYLIGHT
TZOFFSETFROM:-0500
TZOFFSETTO:-0400
TZNAME:EDT
DTSTART:20270314T070000
END:DAYLIGHT
BEGIN:STANDARD
TZOFFSETFROM:-0400
TZOFFSETTO:-0500
TZNAME:EST
DTSTART:20271107T060000
END:STANDARD
END:VTIMEZONE
BEGIN:VEVENT
DTSTART;TZID=America/New_York:20260816T090000
DTEND;TZID=America/New_York:20260816T160000
DTSTAMP:20260422T223425
CREATED:20251109T181651Z
LAST-MODIFIED:20260419T190254Z
UID:10003034-1786870800-1786896000@gunstuff.tv
SUMMARY:Action Pistol Clinic
DESCRIPTION:Action Pistol Clinic hosted by member Adam Metcalf \nadam@openarmsinstruction.com
URL:https://gunstuff.tv/event/action-pistol-clinic-4/
LOCATION:Culver Range
END:VEVENT
BEGIN:VEVENT
DTSTART;TZID=America/New_York:20260905T080000
DTEND;TZID=America/New_York:20260905T170000
DTSTAMP:20260422T223425
CREATED:20251109T181652Z
LAST-MODIFIED:20260419T190254Z
UID:10003035-1788595200-1788627600@gunstuff.tv
SUMMARY:Green Ops Tactical Defensive Pistol I Class
DESCRIPTION:see https://www.green-ops.com/schedule-registration-virginia for class registration info
URL:https://gunstuff.tv/event/green-ops-tactical-defensive-pistol-i-class-2/
LOCATION:Culver Range
END:VEVENT
BEGIN:VEVENT
DTSTART;TZID=America/New_York:20260911T120000
DTEND;TZID=America/New_York:20260911T200000
DTSTAMP:20260422T223425
CREATED:20251012T173817Z
LAST-MODIFIED:20260419T190255Z
UID:10002126-1789128000-1789156800@gunstuff.tv
SUMMARY:IDPA/GPA Match Setup
DESCRIPTION:Culver Range closed for monthly IDPA Match setup. Contact idpa@fxrgc.org for more info.
URL:https://gunstuff.tv/event/idpa-match-setup-9/
LOCATION:Culver Range
END:VEVENT
BEGIN:VEVENT
DTSTART;TZID=America/New_York:20260912T090000
DTEND;TZID=America/New_York:20260912T160000
DTSTAMP:20260422T223425
CREATED:20251012T173817Z
LAST-MODIFIED:20260419T190256Z
UID:10002127-1789203600-1789228800@gunstuff.tv
SUMMARY:IDPA/GPA Monthly Match
DESCRIPTION:https://www.fxrgc.org/pistol/idpa/ \nThese are our monthly IDPA matches.
URL:https://gunstuff.tv/event/idpa-monthly-match-9/
LOCATION:Culver Range
END:VEVENT
BEGIN:VEVENT
DTSTART;TZID=America/New_York:20261009T120000
DTEND;TZID=America/New_York:20261009T200000
DTSTAMP:20260422T223425
CREATED:20251012T173818Z
LAST-MODIFIED:20260419T190257Z
UID:10002131-1791547200-1791576000@gunstuff.tv
SUMMARY:IDPA/GPA Match Setup
DESCRIPTION:Culver Range closed for monthly IDPA Match setup. Contact idpa@fxrgc.org for more info.
URL:https://gunstuff.tv/event/idpa-match-setup-10/
LOCATION:Culver Range
END:VEVENT
BEGIN:VEVENT
DTSTART;TZID=America/New_York:20261010T090000
DTEND;TZID=America/New_York:20261010T160000
DTSTAMP:20260422T223425
CREATED:20251012T173818Z
LAST-MODIFIED:20260419T190257Z
UID:10002134-1791622800-1791648000@gunstuff.tv
SUMMARY:IDPA/GPA Monthly Match
DESCRIPTION:https://www.fxrgc.org/pistol/idpa/ \nThese are our monthly IDPA matches.
URL:https://gunstuff.tv/event/idpa-monthly-match-10/
LOCATION:Culver Range
END:VEVENT
BEGIN:VEVENT
DTSTART;TZID=America/New_York:20261018T090000
DTEND;TZID=America/New_York:20261018T160000
DTSTAMP:20260422T223425
CREATED:20251109T181653Z
LAST-MODIFIED:20260419T190258Z
UID:10003038-1792314000-1792339200@gunstuff.tv
SUMMARY:Action Pistol Clinic
DESCRIPTION:Action Pistol Clinic hosted by member Adam Metcalf \nadam@openarmsinstruction.com
URL:https://gunstuff.tv/event/action-pistol-clinic-5/
LOCATION:Culver Range
END:VEVENT
BEGIN:VEVENT
DTSTART;TZID=America/New_York:20261024T090000
DTEND;TZID=America/New_York:20261024T170000
DTSTAMP:20260422T223425
CREATED:20251003T162536Z
LAST-MODIFIED:20260419T190258Z
UID:10001289-1792832400-1792861200@gunstuff.tv
SUMMARY:2G-ACM Match
DESCRIPTION:See the Club web page for 2G-ACM for more details (https://www.fxrgc.org/practical-shooting/2g-acm/). Subscribe to the 2GACM mailing list to get match announcements. 
URL:https://gunstuff.tv/event/2g-acm-match-11/
LOCATION:Culver Range
END:VEVENT
BEGIN:VEVENT
DTSTART;TZID=America/New_York:20261113T120000
DTEND;TZID=America/New_York:20261113T200000
DTSTAMP:20260422T223425
CREATED:20251012T173819Z
LAST-MODIFIED:20260419T190259Z
UID:10002139-1794571200-1794600000@gunstuff.tv
SUMMARY:IDPA/GPA Match Setup
DESCRIPTION:Culver Range closed for monthly IDPA Match setup. Contact idpa@fxrgc.org for more info.
URL:https://gunstuff.tv/event/idpa-match-setup-11/
LOCATION:Culver Range
END:VEVENT
BEGIN:VEVENT
DTSTART;TZID=America/New_York:20261114T080000
DTEND;TZID=America/New_York:20261114T170000
DTSTAMP:20260422T223425
CREATED:20251109T181654Z
LAST-MODIFIED:20260419T190300Z
UID:10003043-1794643200-1794675600@gunstuff.tv
SUMMARY:Green Ops Tactical Red Dot Pistol Skills Class
DESCRIPTION:see https://www.green-ops.com/schedule-registration-virginia for class registration info \nDual Use with IDPA
URL:https://gunstuff.tv/event/green-ops-tactical-red-dot-pistol-skills-class-2/
LOCATION:Culver Range
END:VEVENT
BEGIN:VEVENT
DTSTART;TZID=America/New_York:20261114T090000
DTEND;TZID=America/New_York:20261114T160000
DTSTAMP:20260422T223425
CREATED:20251012T173819Z
LAST-MODIFIED:20260419T190300Z
UID:10002141-1794646800-1794672000@gunstuff.tv
SUMMARY:IDPA/GPA Monthly Match
DESCRIPTION:https://www.fxrgc.org/pistol/idpa/ \nThese are our monthly IDPA matches.
URL:https://gunstuff.tv/event/idpa-monthly-match-11/
LOCATION:Culver Range
END:VEVENT
BEGIN:VEVENT
DTSTART;TZID=America/New_York:20261121T090000
DTEND;TZID=America/New_York:20261122T170000
DTSTAMP:20260422T223425
CREATED:20251003T162536Z
LAST-MODIFIED:20260419T190300Z
UID:10001295-1795251600-1795366800@gunstuff.tv
SUMMARY:2G-ACM Match
DESCRIPTION:See the Club web page for 2G-ACM for more details (https://www.fxrgc.org/practical-shooting/2g-acm/). Subscribe to the 2GACM mailing list to get match announcements. 
URL:https://gunstuff.tv/event/2g-acm-match-12/
LOCATION:Culver Range
END:VEVENT
END:VCALENDAR