BEGIN:VCALENDAR
VERSION:2.0
PRODID:-//GunStuff TV - ECPv6.15.20//NONSGML v1.0//EN
CALSCALE:GREGORIAN
METHOD:PUBLISH
X-WR-CALNAME:GunStuff TV
X-ORIGINAL-URL:https://gunstuff.tv
X-WR-CALDESC:Events for GunStuff TV
REFRESH-INTERVAL;VALUE=DURATION:PT1H
X-Robots-Tag:noindex
X-PUBLISHED-TTL:PT1H
BEGIN:VTIMEZONE
TZID:UTC
BEGIN:STANDARD
TZOFFSETFROM:+0000
TZOFFSETTO:+0000
TZNAME:UTC
DTSTART:20250101T000000
END:STANDARD
END:VTIMEZONE
BEGIN:VEVENT
DTSTART;TZID=UTC:20260328T090000
DTEND;TZID=UTC:20260328T090000
DTSTAMP:20260419T132450
CREATED:20260207T171712Z
LAST-MODIFIED:20260320T113152Z
UID:10005038-1774688400-1774688400@gunstuff.tv
SUMMARY:Crooked Falls 3/28 USPSA Match
DESCRIPTION:Crooked Falls 3/28 USPSA Match\nDate : 3/28/26\nStart Time: 9:00 AM\nLocation:\nCrooked Falls Practical Shooters (NR11)\nPO Box 6623\nGreat Falls\, MT\nEvent Contact Information\nRick Wolke\n(406) 552-3183\ncrookedfallsps@gmail.com\nEvent Website\nhttps://practiscore.com/crooked-falls-3-28-uspsa-match-clone/register
URL:https://gunstuff.tv/event/crooked-falls-3-28-uspsa-match/
LOCATION:Crooked Falls Practical Shooters (NR11)\, Malmstrom Air Force Base\, MT\, United States
GEO:47.500235;-111.300808
END:VEVENT
END:VCALENDAR