BEGIN:VCALENDAR
VERSION:2.0
PRODID:-//GunStuff TV - ECPv6.15.20//NONSGML v1.0//EN
CALSCALE:GREGORIAN
METHOD:PUBLISH
X-WR-CALNAME:GunStuff TV
X-ORIGINAL-URL:https://gunstuff.tv
X-WR-CALDESC:Events for GunStuff TV
REFRESH-INTERVAL;VALUE=DURATION:PT1H
X-Robots-Tag:noindex
X-PUBLISHED-TTL:PT1H
BEGIN:VTIMEZONE
TZID:UTC
BEGIN:STANDARD
TZOFFSETFROM:+0000
TZOFFSETTO:+0000
TZNAME:UTC
DTSTART:20250101T000000
END:STANDARD
END:VTIMEZONE
BEGIN:VEVENT
DTSTART;TZID=UTC:20260322T090000
DTEND;TZID=UTC:20260322T090000
DTSTAMP:20260424T115214
CREATED:20260321T174629Z
LAST-MODIFIED:20260321T174629Z
UID:10006450-1774170000-1774170000@gunstuff.tv
SUMMARY:US Steel Nationals
DESCRIPTION:US Steel Nationals\nMatch Status: Approved by DNROI\nMatch Starts on Mar 20\, 2026\nMatch will end Mar 22\, 2026\nMatch Location:\nConnecticut Practical Shooters\n2299 Gun Club Lane\nMims\, FL 32754\nManaged by:\nConnecticut Practical Shooters\nStage Count: 8\nRound Count: 195\nMatch Entry Fee: $100.00\nMatch Director: Douglas Koenig\nRange Master: Bob Young\nAdditional Details\nThe Host club where the match will be held is Titusville Rifle & Pistol club in Titusville\, FL.\nRegister!\nhttps://practiscore.com/2026-us-steel-nationals-march-20-22-2026/register
URL:https://gunstuff.tv/event/us-steel-nationals-2/
LOCATION:Connecticut Practical Shooters\, 3201 Kilbee St\, Mims\, FL\, United States
GEO:28.6865;-80.852848
X-APPLE-STRUCTURED-LOCATION;VALUE=URI;X-ADDRESS=Connecticut Practical Shooters 3201 Kilbee St Mims FL United States;X-APPLE-RADIUS=500;X-TITLE=3201 Kilbee St:geo:-80.852848,28.6865
END:VEVENT
BEGIN:VEVENT
DTSTART;TZID=UTC:20260320T090000
DTEND;TZID=UTC:20260320T090000
DTSTAMP:20260424T115214
CREATED:20260107T013337Z
LAST-MODIFIED:20260314T174629Z
UID:10003786-1773997200-1773997200@gunstuff.tv
SUMMARY:US Steel Nationals
DESCRIPTION:US Steel Nationals\nMatch Status: Approved by DNROI\nMatch Starts on Mar 20\, 2026\nMatch will end Mar 22\, 2026\nMatch Location:\nConnecticut Practical Shooters\n2299 Gun Club Lane\nMims\, FL 32754\nManaged by:\nConnecticut Practical Shooters\nStage Count: 8\nRound Count: 195\nMatch Entry Fee: $100.00\nMatch Director: Douglas Koenig\nRange Master: Bob Young\nAdditional Details\nThe Host club where the match will be held is Titusville Rifle & Pistol club in Titusville\, FL.\nRegister!\nhttps://practiscore.com/2026-us-steel-nationals-march-20-22-2026/register
URL:https://gunstuff.tv/event/us-steel-nationals/
LOCATION:Connecticut Practical Shooters\, 3201 Kilbee St\, Mims\, FL\, United States
GEO:28.6865;-80.852848
X-APPLE-STRUCTURED-LOCATION;VALUE=URI;X-ADDRESS=Connecticut Practical Shooters 3201 Kilbee St Mims FL United States;X-APPLE-RADIUS=500;X-TITLE=3201 Kilbee St:geo:-80.852848,28.6865
END:VEVENT
END:VCALENDAR