BEGIN:VCALENDAR
VERSION:2.0
PRODID:-//GunStuff TV - ECPv6.15.20//NONSGML v1.0//EN
CALSCALE:GREGORIAN
METHOD:PUBLISH
X-WR-CALNAME:GunStuff TV
X-ORIGINAL-URL:https://gunstuff.tv
X-WR-CALDESC:Events for GunStuff TV
REFRESH-INTERVAL;VALUE=DURATION:PT1H
X-Robots-Tag:noindex
X-PUBLISHED-TTL:PT1H
BEGIN:VTIMEZONE
TZID:UTC
BEGIN:STANDARD
TZOFFSETFROM:+0000
TZOFFSETTO:+0000
TZNAME:UTC
DTSTART:20250101T000000
END:STANDARD
END:VTIMEZONE
BEGIN:VEVENT
DTSTART;TZID=UTC:20260509T090000
DTEND;TZID=UTC:20260509T090000
DTSTAMP:20260424T090252
CREATED:20260107T013348Z
LAST-MODIFIED:20260418T174750Z
UID:10003826-1778317200-1778317200@gunstuff.tv
SUMMARY:CRPC Steel Challenge May 2026
DESCRIPTION:CRPC Steel Challenge May 2026\nDate: 5/09/26\nStart Time: 9:00 AM\nLocation:\nCoast Rifle And Pistol Club (SCSA185)\n16706 Highway 67\nBiloxi\, MS\nEvent Contact Information\nAustin curry\n228-596-0452\ncrpc.steelchallenge@gmail.com\nMatch Information\nCoast Rifle and Pistol Club will host 5 stages of Steel Challenge.\nMatch Day Schedule:\nPlease check in the morning of the match before 8:30.\nIf there are changes in the schedule\, an email will be sent out and Practiscore will be updated.\nNew shooter meeting will be held at 8:45.\nMatch briefing and match Start at 9:00\nFees:\nCRPC Member – 1st Gun – $10\nNon-Member 1st Gun – $15\nAll second guns $5\nAll Juniors shoot up to 2 guns free\nClub Website\nhttps://crpcms.com/Steel_Challenge\nEvent Website\nhttps://practiscore.com/crpc-steel-challenge-may-2026/register
URL:https://gunstuff.tv/event/crpc-steel-challenge-may-2026/
LOCATION:Coast Rifle And Pistol Club (SCSA185)\, 16706 Highway 67\, Biloxi\, MS
END:VEVENT
BEGIN:VEVENT
DTSTART;TZID=UTC:20260613T090000
DTEND;TZID=UTC:20260613T090000
DTSTAMP:20260424T090252
CREATED:20260107T013348Z
LAST-MODIFIED:20260418T174741Z
UID:10003832-1781341200-1781341200@gunstuff.tv
SUMMARY:CRPC Steel Challenge June 2026
DESCRIPTION:CRPC Steel Challenge June 2026\nDate: 6/13/26\nStart Time: 9:00 AM\nLocation:\nCoast Rifle And Pistol Club (SCSA185)\n16706 Highway 67\nBiloxi\, MS\nEvent Contact Information\nAustin curry\n228-596-0452\ncrpc.steelchallenge@gmail.com\nMatch Information\nCoast Rifle and Pistol Club will host 5 stages of Steel Challenge.\nMatch Day Schedule:\nPlease check in the morning of the match before 8:30.\nIf there are changes in the schedule\, an email will be sent out and Practiscore will be updated.\nNew shooter meeting will be held at 8:45.\nMatch briefing and match Start at 9:00\nFees:\nCRPC Member – 1st Gun – $10\nNon-Member 1st Gun – $15\nAll second guns $5\nAll Juniors shoot up to 2 guns free\nClub Website\nhttps://crpcms.com/Steel_Challenge\nEvent Website\nhttps://practiscore.com/crpc-steel-challenge-june-2026/register
URL:https://gunstuff.tv/event/crpc-steel-challenge-june-2026/
LOCATION:Coast Rifle And Pistol Club (SCSA185)\, 16706 Highway 67\, Biloxi\, MS
END:VEVENT
BEGIN:VEVENT
DTSTART;TZID=UTC:20260711T090000
DTEND;TZID=UTC:20260711T090000
DTSTAMP:20260424T090252
CREATED:20260107T013349Z
LAST-MODIFIED:20260418T174743Z
UID:10003838-1783760400-1783760400@gunstuff.tv
SUMMARY:CRPC Steel Challenge July 2026
DESCRIPTION:CRPC Steel Challenge July 2026\nDate: 7/11/26\nStart Time: 9:00 AM\nLocation:\nCoast Rifle And Pistol Club (SCSA185)\n16706 Highway 67\nBiloxi\, MS\nEvent Contact Information\nAustin curry\n228-596-0452\ncrpc.steelchallenge@gmail.com\nMatch Information\nCoast Rifle and Pistol Club will host 5 stages of Steel Challenge.\nMatch Day Schedule:\nPlease check in the morning of the match before 8:30.\nIf there are changes in the schedule\, an email will be sent out and Practiscore will be updated.\nNew shooter meeting will be held at 8:45.\nMatch briefing and match Start at 9:00\nFees:\nCRPC Member – 1st Gun – $10\nNon-Member 1st Gun – $15\nAll second guns $5\nAll Juniors shoot up to 2 guns free\nClub Website\nhttps://crpcms.com/Steel_Challenge\nEvent Website\nhttps://practiscore.com/crpc-steel-challenge-july-2026/register
URL:https://gunstuff.tv/event/crpc-steel-challenge-july-2026/
LOCATION:Coast Rifle And Pistol Club (SCSA185)\, 16706 Highway 67\, Biloxi\, MS
END:VEVENT
BEGIN:VEVENT
DTSTART;TZID=UTC:20260808T090000
DTEND;TZID=UTC:20260808T090000
DTSTAMP:20260424T090252
CREATED:20260107T013349Z
LAST-MODIFIED:20260418T174746Z
UID:10003843-1786179600-1786179600@gunstuff.tv
SUMMARY:CRPC Steel Challenge August 2026
DESCRIPTION:CRPC Steel Challenge August 2026\nDate: 8/08/26\nStart Time: 9:00 AM\nLocation:\nCoast Rifle And Pistol Club (SCSA185)\n16706 Highway 67\nBiloxi\, MS\nEvent Contact Information\nAustin curry\n228-596-0452\ncrpc.steelchallenge@gmail.com\nMatch Information\nCoast Rifle and Pistol Club will host 5 stages of Steel Challenge.\nMatch Day Schedule:\nPlease check in the morning of the match before 8:30.\nIf there are changes in the schedule\, an email will be sent out and Practiscore will be updated.\nNew shooter meeting will be held at 8:45.\nMatch briefing and match Start at 9:00\nFees:\nCRPC Member – 1st Gun – $10\nNon-Member 1st Gun – $15\nAll second guns $5\nAll Juniors shoot up to 2 guns free\nClub Website\nhttps://crpcms.com/Steel_Challenge\nEvent Website\nhttps://practiscore.com/crpc-steel-challenge-august-2026/register
URL:https://gunstuff.tv/event/crpc-steel-challenge-august-2026/
LOCATION:Coast Rifle And Pistol Club (SCSA185)\, 16706 Highway 67\, Biloxi\, MS
END:VEVENT
BEGIN:VEVENT
DTSTART;TZID=UTC:20260912T090000
DTEND;TZID=UTC:20260912T090000
DTSTAMP:20260424T090253
CREATED:20260107T013350Z
LAST-MODIFIED:20260418T174748Z
UID:10003849-1789203600-1789203600@gunstuff.tv
SUMMARY:CRPC Steel Challenge September 2026
DESCRIPTION:CRPC Steel Challenge September 2026\nDate: 9/12/26\nStart Time: 9:00 AM\nLocation:\nCoast Rifle And Pistol Club (SCSA185)\n16706 Highway 67\nBiloxi\, MS\nEvent Contact Information\nAustin curry\n228-596-0452\ncrpc.steelchallenge@gmail.com\nMatch Information\nCoast Rifle and Pistol Club will host 5 stages of Steel Challenge.\nMatch Day Schedule:\nPlease check in the morning of the match before 8:30.\nIf there are changes in the schedule\, an email will be sent out and Practiscore will be updated.\nNew shooter meeting will be held at 8:45.\nMatch briefing and match Start at 9:00\nFees:\nCRPC Member – 1st Gun – $10\nNon-Member 1st Gun – $15\nAll second guns $5\nAll Juniors shoot up to 2 guns free\nClub Website\nhttps://crpcms.com/Steel_Challenge\nEvent Website\nhttps://practiscore.com/crpc-steel-challenge-september-2026/register
URL:https://gunstuff.tv/event/crpc-steel-challenge-september-2026/
LOCATION:Coast Rifle And Pistol Club (SCSA185)\, 16706 Highway 67\, Biloxi\, MS
END:VEVENT
BEGIN:VEVENT
DTSTART;TZID=UTC:20261010T090000
DTEND;TZID=UTC:20261010T090000
DTSTAMP:20260424T090253
CREATED:20260107T013350Z
LAST-MODIFIED:20260418T174750Z
UID:10003852-1791622800-1791622800@gunstuff.tv
SUMMARY:CRPC Steel Challenge October 2026
DESCRIPTION:CRPC Steel Challenge October 2026\nDate: 10/10/26\nStart Time: 9:00 AM\nLocation:\nCoast Rifle And Pistol Club (SCSA185)\n16706 Highway 67\nBiloxi\, MS\nEvent Contact Information\nAustin curry\n228-596-0452\ncrpc.steelchallenge@gmail.com\nMatch Information\nCoast Rifle and Pistol Club will host 5 stages of Steel Challenge.\nMatch Day Schedule:\nPlease check in the morning of the match before 8:30.\nIf there are changes in the schedule\, an email will be sent out and Practiscore will be updated.\nNew shooter meeting will be held at 8:45.\nMatch briefing and match Start at 9:00\nFees:\nCRPC Member – 1st Gun – $10\nNon-Member 1st Gun – $15\nAll second guns $5\nAll Juniors shoot up to 2 guns free\nClub Website\nhttps://crpcms.com/Steel_Challenge\nEvent Website\nhttps://practiscore.com/crpc-steel-challenge-october-2026/register
URL:https://gunstuff.tv/event/crpc-steel-challenge-october-2026/
LOCATION:Coast Rifle And Pistol Club (SCSA185)\, 16706 Highway 67\, Biloxi\, MS
END:VEVENT
BEGIN:VEVENT
DTSTART;TZID=UTC:20261114T090000
DTEND;TZID=UTC:20261114T090000
DTSTAMP:20260424T090253
CREATED:20260107T013351Z
LAST-MODIFIED:20260418T174751Z
UID:10003855-1794646800-1794646800@gunstuff.tv
SUMMARY:CRPC Steel Challenge November 2026
DESCRIPTION:CRPC Steel Challenge November 2026\nDate: 11/14/26\nStart Time: 9:00 AM\nLocation:\nCoast Rifle And Pistol Club (SCSA185)\n16706 Highway 67\nBiloxi\, MS\nEvent Contact Information\nAustin curry\n228-596-0452\ncrpc.steelchallenge@gmail.com\nMatch Information\nCoast Rifle and Pistol Club will host 5 stages of Steel Challenge.\nMatch Day Schedule:\nPlease check in the morning of the match before 8:30.\nIf there are changes in the schedule\, an email will be sent out and Practiscore will be updated.\nNew shooter meeting will be held at 8:45.\nMatch briefing and match Start at 9:00\nFees:\nCRPC Member – 1st Gun – $10\nNon-Member 1st Gun – $15\nAll second guns $5\nAll Juniors shoot up to 2 guns free\nClub Website\nhttps://crpcms.com/Steel_Challenge\nEvent Website\nhttps://practiscore.com/crpc-steel-challenge-november-2026/register
URL:https://gunstuff.tv/event/crpc-steel-challenge-november-2026/
LOCATION:Coast Rifle And Pistol Club (SCSA185)\, 16706 Highway 67\, Biloxi\, MS
END:VEVENT
BEGIN:VEVENT
DTSTART;TZID=UTC:20261212T090000
DTEND;TZID=UTC:20261212T090000
DTSTAMP:20260424T090253
CREATED:20260107T013351Z
LAST-MODIFIED:20260418T174752Z
UID:10003859-1797066000-1797066000@gunstuff.tv
SUMMARY:CRPC Steel Challenge December 2026
DESCRIPTION:CRPC Steel Challenge December 2026\nDate: 12/12/26\nStart Time: 9:00 AM\nLocation:\nCoast Rifle And Pistol Club (SCSA185)\n16706 Highway 67\nBiloxi\, MS\nEvent Contact Information\nAustin curry\n228-596-0452\ncrpc.steelchallenge@gmail.com\nMatch Information\nCoast Rifle and Pistol Club will host 5 stages of Steel Challenge.\nMatch Day Schedule:\nPlease check in the morning of the match before 8:30.\nIf there are changes in the schedule\, an email will be sent out and Practiscore will be updated.\nNew shooter meeting will be held at 8:45.\nMatch briefing and match Start at 9:00\nFees:\nCRPC Member – 1st Gun – $10\nNon-Member 1st Gun – $15\nAll second guns $5\nAll Juniors shoot up to 2 guns free\nClub Website\nhttps://crpcms.com/Steel_Challenge\nEvent Website\nhttps://practiscore.com/crpc-steel-challenge-december-2026/register
URL:https://gunstuff.tv/event/crpc-steel-challenge-december-2026/
LOCATION:Coast Rifle And Pistol Club (SCSA185)\, 16706 Highway 67\, Biloxi\, MS
END:VEVENT
END:VCALENDAR