BEGIN:VCALENDAR
VERSION:2.0
PRODID:-//GunStuff TV - ECPv6.15.20//NONSGML v1.0//EN
CALSCALE:GREGORIAN
METHOD:PUBLISH
X-ORIGINAL-URL:https://gunstuff.tv
X-WR-CALDESC:Events for GunStuff TV
REFRESH-INTERVAL;VALUE=DURATION:PT1H
X-Robots-Tag:noindex
X-PUBLISHED-TTL:PT1H
BEGIN:VTIMEZONE
TZID:America/New_York
BEGIN:DAYLIGHT
TZOFFSETFROM:-0500
TZOFFSETTO:-0400
TZNAME:EDT
DTSTART:20250309T070000
END:DAYLIGHT
BEGIN:STANDARD
TZOFFSETFROM:-0400
TZOFFSETTO:-0500
TZNAME:EST
DTSTART:20251102T060000
END:STANDARD
BEGIN:DAYLIGHT
TZOFFSETFROM:-0500
TZOFFSETTO:-0400
TZNAME:EDT
DTSTART:20260308T070000
END:DAYLIGHT
BEGIN:STANDARD
TZOFFSETFROM:-0400
TZOFFSETTO:-0500
TZNAME:EST
DTSTART:20261101T060000
END:STANDARD
BEGIN:DAYLIGHT
TZOFFSETFROM:-0500
TZOFFSETTO:-0400
TZNAME:EDT
DTSTART:20270314T070000
END:DAYLIGHT
BEGIN:STANDARD
TZOFFSETFROM:-0400
TZOFFSETTO:-0500
TZNAME:EST
DTSTART:20271107T060000
END:STANDARD
END:VTIMEZONE
BEGIN:VEVENT
DTSTART;TZID=America/New_York:20260228T070000
DTEND;TZID=America/New_York:20260228T180000
DTSTAMP:20260424T133531
CREATED:20251207T181646Z
LAST-MODIFIED:20260222T183129Z
UID:10003439-1772262000-1772301600@gunstuff.tv
SUMMARY:NRA Range Safety Officer Training
DESCRIPTION:Contact: Dave Atwell (datwell74@gmail.com) \nThis request is to use the clubhouse meeting room for a NRA Range Safety Officer (RSO) Certification Course on Saturday\, February 28th\, 2026 taught by myself and a couple friends (one is a club member). The primary reason for this class is to train and certify a new cohort of scout leaders and volunteers as RSOs for the National Capital Area Council of Scouting America \, but the course will also be open to FRGC members. The course cost will be $100 per person\, but adult scouters and club members will receive a 50% discount. The class is limited to 12 participants. $5 per participant will be returned to the club. No shooting is required for this course\, and no live ammunition will be allowed in the classroom.
URL:https://gunstuff.tv/event/nra-range-safety-officer-training/
LOCATION:Clubhhouse
END:VEVENT
END:VCALENDAR