BEGIN:VCALENDAR
VERSION:2.0
PRODID:-//GunStuff TV - ECPv6.15.20//NONSGML v1.0//EN
CALSCALE:GREGORIAN
METHOD:PUBLISH
X-WR-CALNAME:GunStuff TV
X-ORIGINAL-URL:https://gunstuff.tv
X-WR-CALDESC:Events for GunStuff TV
REFRESH-INTERVAL;VALUE=DURATION:PT1H
X-Robots-Tag:noindex
X-PUBLISHED-TTL:PT1H
BEGIN:VTIMEZONE
TZID:UTC
BEGIN:STANDARD
TZOFFSETFROM:+0000
TZOFFSETTO:+0000
TZNAME:UTC
DTSTART:20250101T000000
END:STANDARD
END:VTIMEZONE
BEGIN:VEVENT
DTSTART;TZID=UTC:20260502T090000
DTEND;TZID=UTC:20260502T090000
DTSTAMP:20260419T115637
CREATED:20260315T104640Z
LAST-MODIFIED:20260412T110139Z
UID:10006327-1777712400-1777712400@gunstuff.tv
SUMMARY:Libertyseed
DESCRIPTION:Pacific\, WA – City of Pacific’s America 250 Celebration\nMay 02\, 2026\nAddress: 305 Milwaukee Blvd S\, Pacific\, WA\nThis event is a Libertyseed. It is a speaking engagement and no firearms instruction takes place. This event is free to the public and no registration is required.\nProject Appleseed invites you to experience a LibertySeed event where our volunteers will tell the story of the birth of our Nation. These events are free to the public.\nThe 19th of April\, 1775\, a day that forever changed the course of our Nation. Why is this such an important day and who was involved in the birth of our Nation?\nIt will not be the story you think you know\, or the story you heard in school. The volunteers at the RWVA are passionate about American Heritage. We love to tell people the Story of the Three Strikes\, about ‘The Day the Shot was Heard Around the World.’ The volunteers are willing to tell the story to groups around the Nation.\nCome celebrate 250 years of American Independence\, including reenactors\, historical experts\, cannon and musket demonstrations\, and a chance to sign your name on the Declaration of Independence.\nContact info:\nAmy Randall-Vradenburg\, amy.randall.vradenburg@appleseedinfo.org / WA@appleseedinfo.org
URL:https://gunstuff.tv/event/libertyseed-8/
LOCATION:City of Pacific’s America 250 Celebration\, 305 Milwaukee Blvd S\, Pacific\, WA\, United States
GEO:47.264509;-122.250147
X-APPLE-STRUCTURED-LOCATION;VALUE=URI;X-ADDRESS=City of Pacific’s America 250 Celebration 305 Milwaukee Blvd S Pacific WA United States;X-APPLE-RADIUS=500;X-TITLE=305 Milwaukee Blvd S:geo:-122.250147,47.264509
END:VEVENT
END:VCALENDAR