BEGIN:VCALENDAR
VERSION:2.0
PRODID:-//GunStuff TV - ECPv6.15.20//NONSGML v1.0//EN
CALSCALE:GREGORIAN
METHOD:PUBLISH
X-ORIGINAL-URL:https://gunstuff.tv
X-WR-CALDESC:Events for GunStuff TV
REFRESH-INTERVAL;VALUE=DURATION:PT1H
X-Robots-Tag:noindex
X-PUBLISHED-TTL:PT1H
BEGIN:VTIMEZONE
TZID:UTC
BEGIN:STANDARD
TZOFFSETFROM:+0000
TZOFFSETTO:+0000
TZNAME:UTC
DTSTART:20250101T000000
END:STANDARD
END:VTIMEZONE
BEGIN:VEVENT
DTSTART;TZID=UTC:20260606T090000
DTEND;TZID=UTC:20260606T090000
DTSTAMP:20260419T165433
CREATED:20260110T165501Z
LAST-MODIFIED:20260412T110146Z
UID:10004064-1780736400-1780736400@gunstuff.tv
SUMMARY:Appleseed
DESCRIPTION:Charlotte\, NC – Charlotte Rifle & Pistol Club\nJune 06\, 2026 – June 07\, 2026\nThis is a traditional 25m Project Appleseed rifle event.\nCenterfire is NOT allowed at this event – 22 Rimfire Only.\nRegister Now\nAddress: 9130 Kensington Dr\, Waxhaw\, NC 28173\nWebsite: www.cr-pc.org\nPlease Read:  How to Prepare for an Event\nSafety Notice:\n–  Keep ALL firearms in your vehicle until after the safety briefing and you are instructed to bring them to the firing line.\n–  No illegal firearms are allowed.\n–  At centerfire-friendly ranges\, rifle cartridges are limited to 8mm (rifle) or .45 caliber (pistol and pistol caliber carbines).\n–  Effective 8/8/2025\, Project Appleseed has temporarily suspended the SIG-Sauer P320/M17/M18 (all variants) in our Pistol Clinics.\n–  Parents of youth attending\, please read our Message to Parents.\nSubject to state and local laws\, Instructors at your event may have discounted .22 ammo available. Reach out to the contact at the bottom of this page for availability.\nRange Fee:  None\nCamping Available:\nNone\nHotels:\nMultiple hotels in Charlotte area.\nDirections:\nDirections are available here.\nThe rifle range location is approximately 25 miles south of downtown Charlotte near the town of Waxhaw\, NC. The address is 9130 Kensington Road\, Waxhaw NC.  A map of this location may be found at the website listed above.\nFrom the North\nFrom downtown Charlotte (Intersection of I-85 and I-77). Take I-77 South (8 miles) and exit to I-485 East towards Pineville (go 6 miles). Exit south on Johnston Rd/Hwy 521\, then take Hwy 521 South for 12 miles (into SC and past Indian Land School) to Jim Wilson Rd. Turn Left on to Jim Wilson Rd (go 2.7 miles to the NC/SC border). The range entrance is located on the left at the state line.\nFrom the South\nTake I-77 North and exit east on Hwy 9 or 200 towards Lancaster\, SC. Take Hwy 521 north (15 miles) to Jim Wilson Rd.\, turn Right on to Jim Wilson Rd (go 2.7 miles to the NC/SC border). The range entrance is located on the left at the state line.\nFrom the East\nTake Hwy 74 to Monroe. Turn left on to Hwy 200\, then Hwy 75 and go 13 miles to Waxhaw. One block past downtown Waxhaw\, turn right on to Waxhaw/Marvin Rd. (go 3 miles) and turn left on to Kensington Dr. (go 1 mile) to the state line. The range entrance is located on the right at the state line.\nGPS: 34.946488\,-80.790108\nState Laws to be aware of:\nIt is the responsibility of attendees to know and comply with all State and Federal Firearms Laws.\nNorth Carolina State Firearms Laws\nCheck State laws at http://www.nraila.org/GunLaws/#?st=NC\nMisc:\nOnly .22 rimfire is allowed at the 25 yard range.\nHowever there is a separate range that goes from 50 yards to 300 yards. Attendees who pass the AQT for rifleman will be allowed to go to KD\, but they will need to change rifles to a centerfire.\nBring snacks\, lunch and plenty of water.\nNo alcohol permitted\nFor more information contact:\nName: NC State Coordinator Email Address: NC@appleseedinfo.org\nName: Private message to “NeilR” on the Appleseed forum Phone: 704-840-7500
URL:https://gunstuff.tv/event/appleseed-101/
LOCATION:Charlotte Rifle & Pistol Club\, 9130 Kensington Dr\, Waxhaw\, NC\, United States
GEO:34.943321;-80.787106
X-APPLE-STRUCTURED-LOCATION;VALUE=URI;X-ADDRESS=Charlotte Rifle & Pistol Club 9130 Kensington Dr Waxhaw NC United States;X-APPLE-RADIUS=500;X-TITLE=9130 Kensington Dr:geo:-80.787106,34.943321
END:VEVENT
BEGIN:VEVENT
DTSTART;TZID=UTC:20260905T090000
DTEND;TZID=UTC:20260905T090000
DTSTAMP:20260419T165433
CREATED:20260110T165506Z
LAST-MODIFIED:20260412T110157Z
UID:10004119-1788598800-1788598800@gunstuff.tv
SUMMARY:Appleseed
DESCRIPTION:Charlotte\, NC – Charlotte Rifle & Pistol Club\nSeptember 05\, 2026 – September 06\, 2026\nThis is a traditional 25m Project Appleseed rifle event.\nCenterfire is NOT allowed at this event – 22 Rimfire Only.\nRegister Now\nAddress: 9130 Kensington Dr\, Waxhaw\, NC 28173\nWebsite: www.cr-pc.org\nPlease Read:  How to Prepare for an Event\nSafety Notice:\n–  Keep ALL firearms in your vehicle until after the safety briefing and you are instructed to bring them to the firing line.\n–  No illegal firearms are allowed.\n–  At centerfire-friendly ranges\, rifle cartridges are limited to 8mm (rifle) or .45 caliber (pistol and pistol caliber carbines).\n–  Effective 8/8/2025\, Project Appleseed has temporarily suspended the SIG-Sauer P320/M17/M18 (all variants) in our Pistol Clinics.\n–  Parents of youth attending\, please read our Message to Parents.\nSubject to state and local laws\, Instructors at your event may have discounted .22 ammo available. Reach out to the contact at the bottom of this page for availability.\nRange Fee:  None\nCamping Available:\nNone\nHotels:\nMultiple hotels in Charlotte area.\nDirections:\nDirections are available here.\nThe rifle range location is approximately 25 miles south of downtown Charlotte near the town of Waxhaw\, NC. The address is 9130 Kensington Road\, Waxhaw NC.  A map of this location may be found at the website listed above.\nFrom the North\nFrom downtown Charlotte (Intersection of I-85 and I-77). Take I-77 South (8 miles) and exit to I-485 East towards Pineville (go 6 miles). Exit south on Johnston Rd/Hwy 521\, then take Hwy 521 South for 12 miles (into SC and past Indian Land School) to Jim Wilson Rd. Turn Left on to Jim Wilson Rd (go 2.7 miles to the NC/SC border). The range entrance is located on the left at the state line.\nFrom the South\nTake I-77 North and exit east on Hwy 9 or 200 towards Lancaster\, SC. Take Hwy 521 north (15 miles) to Jim Wilson Rd.\, turn Right on to Jim Wilson Rd (go 2.7 miles to the NC/SC border). The range entrance is located on the left at the state line.\nFrom the East\nTake Hwy 74 to Monroe. Turn left on to Hwy 200\, then Hwy 75 and go 13 miles to Waxhaw. One block past downtown Waxhaw\, turn right on to Waxhaw/Marvin Rd. (go 3 miles) and turn left on to Kensington Dr. (go 1 mile) to the state line. The range entrance is located on the right at the state line.\nGPS: 34.946488\,-80.790108\nState Laws to be aware of:\nIt is the responsibility of attendees to know and comply with all State and Federal Firearms Laws.\nNorth Carolina State Firearms Laws\nCheck State laws at http://www.nraila.org/GunLaws/#?st=NC\nMisc:\nOnly .22 rimfire is allowed at the 25 yard range.\nHowever there is a separate range that goes from 50 yards to 300 yards. Attendees who pass the AQT for rifleman will be allowed to go to KD\, but they will need to change rifles to a centerfire.\nBring snacks\, lunch and plenty of water.\nNo alcohol permitted\nFor more information contact:\nName: NC State Coordinator Email Address: NC@appleseedinfo.org\nName: Private message to “NeilR” on the Appleseed forum Phone: 704-840-7500
URL:https://gunstuff.tv/event/appleseed-142/
LOCATION:Charlotte Rifle & Pistol Club\, 9130 Kensington Dr\, Waxhaw\, NC\, United States
GEO:34.943321;-80.787106
X-APPLE-STRUCTURED-LOCATION;VALUE=URI;X-ADDRESS=Charlotte Rifle & Pistol Club 9130 Kensington Dr Waxhaw NC United States;X-APPLE-RADIUS=500;X-TITLE=9130 Kensington Dr:geo:-80.787106,34.943321
END:VEVENT
BEGIN:VEVENT
DTSTART;TZID=UTC:20261212T090000
DTEND;TZID=UTC:20261212T090000
DTSTAMP:20260419T165433
CREATED:20260110T165515Z
LAST-MODIFIED:20260412T110210Z
UID:10004212-1797066000-1797066000@gunstuff.tv
SUMMARY:Appleseed
DESCRIPTION:Charlotte\, NC – Charlotte Rifle & Pistol Club\nDecember 12\, 2026 – December 13\, 2026\nThis is a traditional 25m Project Appleseed rifle event.\nCenterfire is NOT allowed at this event – 22 Rimfire Only.\nRegister Now\nAddress: 9130 Kensington Dr\, Waxhaw\, NC 28173\nWebsite: www.cr-pc.org\nPlease Read:  How to Prepare for an Event\nSafety Notice:\n–  Keep ALL firearms in your vehicle until after the safety briefing and you are instructed to bring them to the firing line.\n–  No illegal firearms are allowed.\n–  At centerfire-friendly ranges\, rifle cartridges are limited to 8mm (rifle) or .45 caliber (pistol and pistol caliber carbines).\n–  Effective 8/8/2025\, Project Appleseed has temporarily suspended the SIG-Sauer P320/M17/M18 (all variants) in our Pistol Clinics.\n–  Parents of youth attending\, please read our Message to Parents.\nSubject to state and local laws\, Instructors at your event may have discounted .22 ammo available. Reach out to the contact at the bottom of this page for availability.\nRange Fee:  None\nCamping Available:\nNone\nHotels:\nMultiple hotels in Charlotte area.\nDirections:\nDirections are available here.\nThe rifle range location is approximately 25 miles south of downtown Charlotte near the town of Waxhaw\, NC. The address is 9130 Kensington Road\, Waxhaw NC.  A map of this location may be found at the website listed above.\nFrom the North\nFrom downtown Charlotte (Intersection of I-85 and I-77). Take I-77 South (8 miles) and exit to I-485 East towards Pineville (go 6 miles). Exit south on Johnston Rd/Hwy 521\, then take Hwy 521 South for 12 miles (into SC and past Indian Land School) to Jim Wilson Rd. Turn Left on to Jim Wilson Rd (go 2.7 miles to the NC/SC border). The range entrance is located on the left at the state line.\nFrom the South\nTake I-77 North and exit east on Hwy 9 or 200 towards Lancaster\, SC. Take Hwy 521 north (15 miles) to Jim Wilson Rd.\, turn Right on to Jim Wilson Rd (go 2.7 miles to the NC/SC border). The range entrance is located on the left at the state line.\nFrom the East\nTake Hwy 74 to Monroe. Turn left on to Hwy 200\, then Hwy 75 and go 13 miles to Waxhaw. One block past downtown Waxhaw\, turn right on to Waxhaw/Marvin Rd. (go 3 miles) and turn left on to Kensington Dr. (go 1 mile) to the state line. The range entrance is located on the right at the state line.\nGPS: 34.946488\,-80.790108\nState Laws to be aware of:\nIt is the responsibility of attendees to know and comply with all State and Federal Firearms Laws.\nNorth Carolina State Firearms Laws\nCheck State laws at http://www.nraila.org/GunLaws/#?st=NC\nMisc:\nOnly .22 rimfire is allowed at the 25 yard range.\nHowever there is a separate range that goes from 50 yards to 300 yards. Attendees who pass the AQT for rifleman will be allowed to go to KD\, but they will need to change rifles to a centerfire.\nBring snacks\, lunch and plenty of water.\nNo alcohol permitted\nFor more information contact:\nName: NC State Coordinator Email Address: NC@appleseedinfo.org\nName: Private message to “NeilR” on the Appleseed forum Phone: 704-840-7500
URL:https://gunstuff.tv/event/appleseed-202/
LOCATION:Charlotte Rifle & Pistol Club\, 9130 Kensington Dr\, Waxhaw\, NC\, United States
GEO:34.943321;-80.787106
X-APPLE-STRUCTURED-LOCATION;VALUE=URI;X-ADDRESS=Charlotte Rifle & Pistol Club 9130 Kensington Dr Waxhaw NC United States;X-APPLE-RADIUS=500;X-TITLE=9130 Kensington Dr:geo:-80.787106,34.943321
END:VEVENT
END:VCALENDAR