BEGIN:VCALENDAR
VERSION:2.0
PRODID:-//GunStuff TV - ECPv6.15.20//NONSGML v1.0//EN
CALSCALE:GREGORIAN
METHOD:PUBLISH
X-ORIGINAL-URL:https://gunstuff.tv
X-WR-CALDESC:Events for GunStuff TV
REFRESH-INTERVAL;VALUE=DURATION:PT1H
X-Robots-Tag:noindex
X-PUBLISHED-TTL:PT1H
BEGIN:VTIMEZONE
TZID:UTC
BEGIN:STANDARD
TZOFFSETFROM:+0000
TZOFFSETTO:+0000
TZNAME:UTC
DTSTART:20250101T000000
END:STANDARD
END:VTIMEZONE
BEGIN:VEVENT
DTSTART;TZID=UTC:20261114T090000
DTEND;TZID=UTC:20261114T090000
DTSTAMP:20260421T190156
CREATED:20260110T165514Z
LAST-MODIFIED:20260412T110209Z
UID:10004198-1794646800-1794646800@gunstuff.tv
SUMMARY:Known Distance
DESCRIPTION:New Braunfels\, TX – Central Texas Silueta Association\nNovember 14\, 2026 – November 15\, 2026\nThis is an Advanced Known Distance event. Only previous Appleseed attendees should sign up.\nThis event will require a Centerfire rifle.\nRegister Now\nAddress: 421 Range Rd\, New Braunfels\, TX 78132\nWebsite: silhouette-texas.us\nPlease Read:  How to Prepare for an Event\nSafety Notice:\n–  Keep ALL firearms in your vehicle until after the safety briefing and you are instructed to bring them to the firing line.\n–  No illegal firearms are allowed.\n–  At centerfire-friendly ranges\, rifle cartridges are limited to 8mm (rifle) or .45 caliber (pistol and pistol caliber carbines).\n–  Effective 8/8/2025\, Project Appleseed has temporarily suspended the SIG-Sauer P320/M17/M18 (all variants) in our Pistol Clinics.\n–  Parents of youth attending\, please read our Message to Parents.\nSubject to state and local laws\, Instructors at your event may have discounted .22 ammo available. Reach out to the contact at the bottom of this page for availability.\nRange Fee:  $40 for the weekend. Please note that the range requires a minimum $200 for the weekend for use of the range. So if not many people sign up the range fee could be more. Appleseed does not own this range.\nCamping Available:\nCamping at the range is available on Saturday nights. Camping may be available on Friday night too but you’ll have to contact us to make sure somebody is there to let you in. Please use our contact form.\nHotels:\nDirections:\nSee map on range website.\nGPS: 29.746447\,-98.236514\nState Laws to be aware of:\nIt is the responsibility of attendees to know and comply with all State and Federal Firearms Laws.\nTexas State Firearms Laws\nMisc:\nFor more information contact:\nName: TX State Coordinator Email Address: TX@appleseedinfo.org
URL:https://gunstuff.tv/event/known-distance-12/
LOCATION:Central Texas Silueta Association\, 421 Range Rd\, New Braunfels\, TX\, United States
GEO:29.745503;-98.235607
X-APPLE-STRUCTURED-LOCATION;VALUE=URI;X-ADDRESS=Central Texas Silueta Association 421 Range Rd New Braunfels TX United States;X-APPLE-RADIUS=500;X-TITLE=421 Range Rd:geo:-98.235607,29.745503
END:VEVENT
END:VCALENDAR