BEGIN:VCALENDAR
VERSION:2.0
PRODID:-//GunStuff TV - ECPv6.15.20//NONSGML v1.0//EN
CALSCALE:GREGORIAN
METHOD:PUBLISH
X-ORIGINAL-URL:https://gunstuff.tv
X-WR-CALDESC:Events for GunStuff TV
REFRESH-INTERVAL;VALUE=DURATION:PT1H
X-Robots-Tag:noindex
X-PUBLISHED-TTL:PT1H
BEGIN:VTIMEZONE
TZID:UTC
BEGIN:STANDARD
TZOFFSETFROM:+0000
TZOFFSETTO:+0000
TZNAME:UTC
DTSTART:20250101T000000
END:STANDARD
END:VTIMEZONE
BEGIN:VEVENT
DTSTART;TZID=UTC:20260417T140000
DTEND;TZID=UTC:20260418T200000
DTSTAMP:20260421T073008
CREATED:20260414T200220Z
LAST-MODIFIED:20260414T200220Z
UID:10007734-1776434400-1776542400@gunstuff.tv
SUMMARY:RDS Steel Challenge - April 2026
DESCRIPTION:**RDS Monthly Steel Challenge Match **\nWe will be shooting the standard 8 Steel Challenge stages.\n*   April 17 & 18\, 2026.\n*****START SUMMER HOURS*****\n*   Gates open: 6:30 AM on Friday & 7 am on Saturday for Set-up. (Set up help is always appreciated)\n*   Sign-in: Begins at 8:00 AM (after setup)\n*   Shooters meeting: Approximately 8:50 AM\n*   First shots: 9:00 AM\nNOTE #1:  Per SCSA Rule 5.1.3 “Due to the unique nature of the Steel Challenge\, drawing from concealment or from inside the waist band is not allowed.”\nNOTE #2: The USPSA Board of Directors has adopted a new policy requiring all current USPSA and SCSA members who compete in a sanctioned USPSA or SCSA match to enter their valid membership number at the time of registration.\nThis requirement applies to all sanctioned matches\, including Level I\, II\, III and IV events.\nFor 2026\, two new divisions are available:\nRimfire Revolver Irons (RRI)\nRimfire Revolver Optics (RRO).\n*   We run a Two-day event with Friday and Saturday sessions\n*   You may register up to 2 guns per participant. You may select to shoot both on one day or 1 on each day.\nTo register a second gun\, complete the first registration and squad selection\, then register and squad again for the second gun. Then if you wish to Pay online\, pay for both guns after the 2nd Gun is registered.\n*   Round count is approximately 200–225 rounds per gun; please bring extra ammunition.\n*   The Gate code will be emailed the Thursday before the match.\n*   If you need to withdraw\, please do so promptly via PractiScore as our matches fill up.\n*   For day-of-match cancellations\, text the Match Director at 479-715-5152.\nPricing:\n*   Non-RDS Member: $20\n*   RDS Member: $15\n*   Junior (12–17)\, Non-RDS Member: $15\n*   Junior\, RDS Member: $10\n*   Second gun: $10\nWe look forward to seeing you at the range.\nScott Willis\nSteel Challenge Match Director\n479-715-5152\nsteel@rdshooters.com
URL:https://gunstuff.tv/event/rds-steel-challenge-april-2026/
LOCATION:\, Centerton AR\, United States
END:VEVENT
END:VCALENDAR