BEGIN:VCALENDAR
VERSION:2.0
PRODID:-//GunStuff TV - ECPv6.15.20//NONSGML v1.0//EN
CALSCALE:GREGORIAN
METHOD:PUBLISH
X-WR-CALNAME:GunStuff TV
X-ORIGINAL-URL:https://gunstuff.tv
X-WR-CALDESC:Events for GunStuff TV
REFRESH-INTERVAL;VALUE=DURATION:PT1H
X-Robots-Tag:noindex
X-PUBLISHED-TTL:PT1H
BEGIN:VTIMEZONE
TZID:UTC
BEGIN:STANDARD
TZOFFSETFROM:+0000
TZOFFSETTO:+0000
TZNAME:UTC
DTSTART:20250101T000000
END:STANDARD
END:VTIMEZONE
BEGIN:VEVENT
DTSTART;TZID=UTC:20260425T070000
DTEND;TZID=UTC:20260425T180000
DTSTAMP:20260423T062529
CREATED:20260421T200316Z
LAST-MODIFIED:20260421T200316Z
UID:10008261-1777100400-1777140000@gunstuff.tv
SUMMARY:3a Social_Open  IPSC Handgun Tir Sabadell_CIUTAT DE SABADELL 25-04-2026
DESCRIPTION:3a Social_ Open IPSC  Hadgun Tir Sabadell_CIUTAT DE SABADELL 25-04-2026\nLa competición será mañana y tarde.\nOBLIGATORIO:\nNombre y apellidos completos tal como figura la licencia Federativa.\nOBLIGATORIO:Escribir si prefieres  tirar por la MAÑANA o por la TARDE.
URL:https://gunstuff.tv/event/3a-social_open-ipsc-handgun-tir-sabadell_ciutat-de-sabadell-25-04-2026/
LOCATION:Carretera de Bellaterra\, Sabadell Spain
END:VEVENT
END:VCALENDAR