BEGIN:VCALENDAR
VERSION:2.0
PRODID:-//GunStuff TV - ECPv6.15.20//NONSGML v1.0//EN
CALSCALE:GREGORIAN
METHOD:PUBLISH
X-WR-CALNAME:GunStuff TV
X-ORIGINAL-URL:https://gunstuff.tv
X-WR-CALDESC:Events for GunStuff TV
REFRESH-INTERVAL;VALUE=DURATION:PT1H
X-Robots-Tag:noindex
X-PUBLISHED-TTL:PT1H
BEGIN:VTIMEZONE
TZID:America/Los_Angeles
BEGIN:DAYLIGHT
TZOFFSETFROM:-0800
TZOFFSETTO:-0700
TZNAME:PDT
DTSTART:20250309T100000
END:DAYLIGHT
BEGIN:STANDARD
TZOFFSETFROM:-0700
TZOFFSETTO:-0800
TZNAME:PST
DTSTART:20251102T090000
END:STANDARD
BEGIN:DAYLIGHT
TZOFFSETFROM:-0800
TZOFFSETTO:-0700
TZNAME:PDT
DTSTART:20260308T100000
END:DAYLIGHT
BEGIN:STANDARD
TZOFFSETFROM:-0700
TZOFFSETTO:-0800
TZNAME:PST
DTSTART:20261101T090000
END:STANDARD
BEGIN:DAYLIGHT
TZOFFSETFROM:-0800
TZOFFSETTO:-0700
TZNAME:PDT
DTSTART:20270314T100000
END:DAYLIGHT
BEGIN:STANDARD
TZOFFSETFROM:-0700
TZOFFSETTO:-0800
TZNAME:PST
DTSTART:20271107T090000
END:STANDARD
END:VTIMEZONE
BEGIN:VEVENT
DTSTART;TZID=America/Los_Angeles:20260416T130000
DTEND;TZID=America/Los_Angeles:20260416T180000
DTSTAMP:20260423T021924
CREATED:20251214T214629Z
LAST-MODIFIED:20260405T223147Z
UID:10003563-1776344400-1776362400@gunstuff.tv
SUMMARY:RIFLE SIDE RANGE CLOSED
DESCRIPTION:NOT OPEN TO THE PUBLIC AFTER 1:00 P. M.
URL:https://gunstuff.tv/event/rifle-side-range-closed-8/
LOCATION:California
END:VEVENT
BEGIN:VEVENT
DTSTART;TZID=America/Los_Angeles:20260402T130000
DTEND;TZID=America/Los_Angeles:20260402T180000
DTSTAMP:20260423T021924
CREATED:20251130T214630Z
LAST-MODIFIED:20260329T221627Z
UID:10003283-1775134800-1775152800@gunstuff.tv
SUMMARY:RIFLE SIDE RANGE CLOSED
DESCRIPTION:NOT OPEN TO THE PUBLIC AFTER 1:00 P. M.
URL:https://gunstuff.tv/event/rifle-side-range-closed-7/
LOCATION:California
END:VEVENT
BEGIN:VEVENT
DTSTART;TZID=America/Los_Angeles:20260319T130000
DTEND;TZID=America/Los_Angeles:20260319T180000
DTSTAMP:20260423T021924
CREATED:20251123T214637Z
LAST-MODIFIED:20260315T221627Z
UID:10003217-1773925200-1773943200@gunstuff.tv
SUMMARY:RIFLE SIDE RANGE CLOSED
DESCRIPTION:NOT OPEN TO THE PUBLIC AFTER 1:00 P. M.
URL:https://gunstuff.tv/event/rifle-side-range-closed-6/
LOCATION:California
END:VEVENT
BEGIN:VEVENT
DTSTART;TZID=America/Los_Angeles:20260305T130000
DTEND;TZID=America/Los_Angeles:20260305T180000
DTSTAMP:20260423T021924
CREATED:20251123T214637Z
LAST-MODIFIED:20260301T221632Z
UID:10003216-1772715600-1772733600@gunstuff.tv
SUMMARY:RIFLE SIDE RANGE CLOSED
DESCRIPTION:NOT OPEN TO THE PUBLIC AFTER 1:00 P. M.
URL:https://gunstuff.tv/event/rifle-side-range-closed-5/
LOCATION:California
END:VEVENT
BEGIN:VEVENT
DTSTART;TZID=America/Los_Angeles:20260219T130000
DTEND;TZID=America/Los_Angeles:20260219T180000
DTSTAMP:20260423T021924
CREATED:20251123T214637Z
LAST-MODIFIED:20260215T221626Z
UID:10003215-1771506000-1771524000@gunstuff.tv
SUMMARY:RIFLE SIDE RANGE CLOSED
DESCRIPTION:NOT OPEN TO THE PUBLIC AFTER 1:00 P. M.
URL:https://gunstuff.tv/event/rifle-side-range-closed-4/
LOCATION:California
END:VEVENT
BEGIN:VEVENT
DTSTART;TZID=America/Los_Angeles:20260205T130000
DTEND;TZID=America/Los_Angeles:20260205T180000
DTSTAMP:20260423T021924
CREATED:20251123T214636Z
LAST-MODIFIED:20260201T221626Z
UID:10003214-1770296400-1770314400@gunstuff.tv
SUMMARY:RIFLE SIDE RANGE CLOSED
DESCRIPTION:NOT OPEN TO THE PUBLIC AFTER 1:00 P. M.
URL:https://gunstuff.tv/event/rifle-side-range-closed-3/
LOCATION:California
END:VEVENT
BEGIN:VEVENT
DTSTART;TZID=America/Los_Angeles:20260122T130000
DTEND;TZID=America/Los_Angeles:20260122T180000
DTSTAMP:20260423T021925
CREATED:20251123T214636Z
LAST-MODIFIED:20260118T221637Z
UID:10003213-1769086800-1769104800@gunstuff.tv
SUMMARY:RIFLE SIDE RANGE CLOSED
DESCRIPTION:NOT OPEN TO THE PUBLIC AFTER 1:00 P. M.
URL:https://gunstuff.tv/event/rifle-side-range-closed-2/
LOCATION:California
END:VEVENT
END:VCALENDAR