BEGIN:VCALENDAR
VERSION:2.0
PRODID:-//GunStuff TV - ECPv6.15.20//NONSGML v1.0//EN
CALSCALE:GREGORIAN
METHOD:PUBLISH
X-WR-CALNAME:GunStuff TV
X-ORIGINAL-URL:https://gunstuff.tv
X-WR-CALDESC:Events for GunStuff TV
REFRESH-INTERVAL;VALUE=DURATION:PT1H
X-Robots-Tag:noindex
X-PUBLISHED-TTL:PT1H
BEGIN:VTIMEZONE
TZID:UTC
BEGIN:STANDARD
TZOFFSETFROM:+0000
TZOFFSETTO:+0000
TZNAME:UTC
DTSTART:20250101T000000
END:STANDARD
END:VTIMEZONE
BEGIN:VEVENT
DTSTART;TZID=UTC:20260613T090000
DTEND;TZID=UTC:20260613T090000
DTSTAMP:20260419T131529
CREATED:20260329T110226Z
LAST-MODIFIED:20260412T110146Z
UID:10006611-1781341200-1781341200@gunstuff.tv
SUMMARY:Appleseed
DESCRIPTION:Boulder\, CO – Boulder Rifle Club\nJune 13\, 2026 – June 14\, 2026\nThis is a traditional 25m Project Appleseed rifle event.\nBoth Centerfire and 22 Rimfire rifles are allowed at this event.\nRegister Now\nAddress: 4810 North 26th Street\, Boulder\, CO 80306\nWebsite: www.boulderrifleclub.com\nPlease Read:  How to Prepare for an Event\nSafety Notice:\n–  Keep ALL firearms in your vehicle until after the safety briefing and you are instructed to bring them to the firing line.\n–  No illegal firearms are allowed.\n–  At centerfire-friendly ranges\, rifle cartridges are limited to 8mm (rifle) or .45 caliber (pistol and pistol caliber carbines).\n–  Effective 8/8/2025\, Project Appleseed has temporarily suspended the SIG-Sauer P320/M17/M18 (all variants) in our Pistol Clinics.\n–  Parents of youth attending\, please read our Message to Parents.\nSubject to state and local laws\, Instructors at your event may have discounted .22 ammo available. Reach out to the contact at the bottom of this page for availability.\nRange Fee:  $10 per adult per event. $5 per junior or senior per event.\nCamping Available:\nCountrywood Inn and RV Park\, Longmont.countrywoodinn.com\nHotels:\nRodeway Inn:  555 30th Street\, Boulder\, CO 80303. 303-444-3330  http://www.rodewayinn.com/hotel-boulder-colorado-CO223\nDays Hotel:  5397 South Boulder\, Road\, Boulder\, CO 80303\, 303-499-4422\nhttp://www.dayshotelboulder.com/\nBest Western:  770 28th Street\, Boulder\, CO 80303\, 800-233-8469\nhttp://boulderinn.com/\nQuality Inn:  2020 Arapahoe Avenue\, Boulder\, CO 80302\, 303-449-7550\nhttp://www.qualityinnboulder.com/\nDirections:\nFrom Boulder\, at intersection of 28th Street and Jay Road\, go northwest approximately 1500 feet on Highway 36 (28th Street). Then turn North (right) on 26th Street. Go about .5 miles to Quonset hut in small canyon.\nhttp://www.boulderrifleclub.com/brcmap.html\nGPS: 40.066459\,-105.266299\nState Laws to be aware of:\nIt is the responsibility of attendees to know and comply with all State and Federal Firearms Laws.\nColorado State Firearms Laws\nMisc:\nPlease leave your rifles in the car until asked to bring them to the firing line. Please\, no handguns (concealed or open) on the firing line. Bring layered clothing\, a windbreaker\, and lightweight gloves\, eye protection and hearing protection. Bring rain gear\, jacket\, a lunch\, snacks\, and plenty of water. A shooting mat\, e.g.\, a 4′ x 7′ carpet scrap\, will be desired for prone and sitting. If rain or snow is expected\, bring a tarp to put your mat on. For more on what to bring see: http://www.appleseedinfo.org/as_prepare.html\nNo alcohol permitted.\nThe Appleseed Project made FOX NEWS\nhttp://video.foxnews.com/v/4324345/appleseed-project/\nhttp://video.foxnews.com/v/4314305/mixing-history-with-guns/\nVideo here\nhttp://www.youtube.com/watch?v=gT7IJ405VKo…feature=related\nFor more information contact:\nName: CO State Coordinator Email Address: CO@appleseedinfo.org
URL:https://gunstuff.tv/event/appleseed-308/
LOCATION:Boulder Rifle Club\, 4810 26th St\, Boulder\, CO\, United States
GEO:40.061144;-105.263278
X-APPLE-STRUCTURED-LOCATION;VALUE=URI;X-ADDRESS=Boulder Rifle Club 4810 26th St Boulder CO United States;X-APPLE-RADIUS=500;X-TITLE=4810 26th St:geo:-105.263278,40.061144
END:VEVENT
BEGIN:VEVENT
DTSTART;TZID=UTC:20261031T090000
DTEND;TZID=UTC:20261031T090000
DTSTAMP:20260419T131529
CREATED:20260308T104714Z
LAST-MODIFIED:20260412T110207Z
UID:10006205-1793437200-1793437200@gunstuff.tv
SUMMARY:Appleseed
DESCRIPTION:Boulder\, CO – Boulder Rifle Club\nOctober 31\, 2026 – November 01\, 2026\nThis is a traditional 25m Project Appleseed rifle event.\nBoth Centerfire and 22 Rimfire rifles are allowed at this event.\nRegister Now\nAddress: 4810 North 26th Street\, Boulder\, CO 80306\nWebsite: www.boulderrifleclub.com\nPlease Read:  How to Prepare for an Event\nSafety Notice:\n–  Keep ALL firearms in your vehicle until after the safety briefing and you are instructed to bring them to the firing line.\n–  No illegal firearms are allowed.\n–  At centerfire-friendly ranges\, rifle cartridges are limited to 8mm (rifle) or .45 caliber (pistol and pistol caliber carbines).\n–  Effective 8/8/2025\, Project Appleseed has temporarily suspended the SIG-Sauer P320/M17/M18 (all variants) in our Pistol Clinics.\n–  Parents of youth attending\, please read our Message to Parents.\nSubject to state and local laws\, Instructors at your event may have discounted .22 ammo available. Reach out to the contact at the bottom of this page for availability.\nRange Fee:  $10 per adult per event. $5 per junior or senior per event.\nCamping Available:\nCountrywood Inn and RV Park\, Longmont.countrywoodinn.com\nHotels:\nRodeway Inn:  555 30th Street\, Boulder\, CO 80303. 303-444-3330  http://www.rodewayinn.com/hotel-boulder-colorado-CO223\nDays Hotel:  5397 South Boulder\, Road\, Boulder\, CO 80303\, 303-499-4422\nhttp://www.dayshotelboulder.com/\nBest Western:  770 28th Street\, Boulder\, CO 80303\, 800-233-8469\nhttp://boulderinn.com/\nQuality Inn:  2020 Arapahoe Avenue\, Boulder\, CO 80302\, 303-449-7550\nhttp://www.qualityinnboulder.com/\nDirections:\nFrom Boulder\, at intersection of 28th Street and Jay Road\, go northwest approximately 1500 feet on Highway 36 (28th Street). Then turn North (right) on 26th Street. Go about .5 miles to Quonset hut in small canyon.\nhttp://www.boulderrifleclub.com/brcmap.html\nGPS: 40.066459\,-105.266299\nState Laws to be aware of:\nIt is the responsibility of attendees to know and comply with all State and Federal Firearms Laws.\nColorado State Firearms Laws\nMisc:\nPlease leave your rifles in the car until asked to bring them to the firing line. Please\, no handguns (concealed or open) on the firing line. Bring layered clothing\, a windbreaker\, and lightweight gloves\, eye protection and hearing protection. Bring rain gear\, jacket\, a lunch\, snacks\, and plenty of water. A shooting mat\, e.g.\, a 4′ x 7′ carpet scrap\, will be desired for prone and sitting. If rain or snow is expected\, bring a tarp to put your mat on. For more on what to bring see: http://www.appleseedinfo.org/as_prepare.html\nNo alcohol permitted.\nThe Appleseed Project made FOX NEWS\nhttp://video.foxnews.com/v/4324345/appleseed-project/\nhttp://video.foxnews.com/v/4314305/mixing-history-with-guns/\nVideo here\nhttp://www.youtube.com/watch?v=gT7IJ405VKo…feature=related\nFor more information contact:\nName: CO State Coordinator Email Address: CO@appleseedinfo.org
URL:https://gunstuff.tv/event/appleseed-296/
LOCATION:Boulder Rifle Club\, 4810 26th St\, Boulder\, CO\, United States
GEO:40.061144;-105.263278
X-APPLE-STRUCTURED-LOCATION;VALUE=URI;X-ADDRESS=Boulder Rifle Club 4810 26th St Boulder CO United States;X-APPLE-RADIUS=500;X-TITLE=4810 26th St:geo:-105.263278,40.061144
END:VEVENT
END:VCALENDAR