BEGIN:VCALENDAR
VERSION:2.0
PRODID:-//GunStuff TV - ECPv6.15.20//NONSGML v1.0//EN
CALSCALE:GREGORIAN
METHOD:PUBLISH
X-ORIGINAL-URL:https://gunstuff.tv
X-WR-CALDESC:Events for GunStuff TV
REFRESH-INTERVAL;VALUE=DURATION:PT1H
X-Robots-Tag:noindex
X-PUBLISHED-TTL:PT1H
BEGIN:VTIMEZONE
TZID:UTC
BEGIN:STANDARD
TZOFFSETFROM:+0000
TZOFFSETTO:+0000
TZNAME:UTC
DTSTART:20250101T000000
END:STANDARD
END:VTIMEZONE
BEGIN:VEVENT
DTSTART;TZID=UTC:20260329T130000
DTEND;TZID=UTC:20260329T130000
DTSTAMP:20260419T191730
CREATED:20260227T113138Z
LAST-MODIFIED:20260329T034743Z
UID:10005829-1774789200-1774789200@gunstuff.tv
SUMMARY:Benton Gun Club March 2026
DESCRIPTION:Benton Gun Club March 2026\nDate : 3/29/26\nStart Time: 1:00 PM\nLocation:\nBenton Gun Club (AR13)\n5522 Mt Olive Cutoff Rd\nBauxite\, AR\nEvent Contact Information\nDavid See\n5012494272\nbgcuspsa3@gmail.com\nMatch Information\nMatch opens for registration on Practiscore March 08
URL:https://gunstuff.tv/event/benton-gun-club-march-2026/
LOCATION:Benton Gun Club (AR13)\, 5522 Mt Olive Cutoff Rd\, Bauxite\, AR
END:VEVENT
END:VCALENDAR