BEGIN:VCALENDAR
VERSION:2.0
PRODID:-//GunStuff TV - ECPv6.15.20//NONSGML v1.0//EN
CALSCALE:GREGORIAN
METHOD:PUBLISH
X-ORIGINAL-URL:https://gunstuff.tv
X-WR-CALDESC:Events for GunStuff TV
REFRESH-INTERVAL;VALUE=DURATION:PT1H
X-Robots-Tag:noindex
X-PUBLISHED-TTL:PT1H
BEGIN:VTIMEZONE
TZID:America/New_York
BEGIN:DAYLIGHT
TZOFFSETFROM:-0500
TZOFFSETTO:-0400
TZNAME:EDT
DTSTART:20250309T070000
END:DAYLIGHT
BEGIN:STANDARD
TZOFFSETFROM:-0400
TZOFFSETTO:-0500
TZNAME:EST
DTSTART:20251102T060000
END:STANDARD
BEGIN:DAYLIGHT
TZOFFSETFROM:-0500
TZOFFSETTO:-0400
TZNAME:EDT
DTSTART:20260308T070000
END:DAYLIGHT
BEGIN:STANDARD
TZOFFSETFROM:-0400
TZOFFSETTO:-0500
TZNAME:EST
DTSTART:20261101T060000
END:STANDARD
BEGIN:DAYLIGHT
TZOFFSETFROM:-0500
TZOFFSETTO:-0400
TZNAME:EDT
DTSTART:20270314T070000
END:DAYLIGHT
BEGIN:STANDARD
TZOFFSETFROM:-0400
TZOFFSETTO:-0500
TZNAME:EST
DTSTART:20271107T060000
END:STANDARD
END:VTIMEZONE
BEGIN:VEVENT
DTSTART;VALUE=DATE:20260422
DTEND;VALUE=DATE:20260423
DTSTAMP:20260422T223413
CREATED:20260419T190145Z
LAST-MODIFIED:20260419T190242Z
UID:10008071-1776816000-1776902399@gunstuff.tv
SUMMARY:Benson Range Closed
DESCRIPTION:Closed for maintenance
URL:https://gunstuff.tv/event/benson-range-closed/
LOCATION:Benson Range
END:VEVENT
BEGIN:VEVENT
DTSTART;TZID=America/New_York:20260509T080000
DTEND;TZID=America/New_York:20260509T160000
DTSTAMP:20260422T223413
CREATED:20251003T162535Z
LAST-MODIFIED:20260419T190245Z
UID:10001251-1778313600-1778342400@gunstuff.tv
SUMMARY:High Power Rifle Match
DESCRIPTION:Details here: https://www.fxrgc.org/rifle/high-power-rifle-spring-league/
URL:https://gunstuff.tv/event/high-power-rifle-match-13/
LOCATION:Benson Range
END:VEVENT
BEGIN:VEVENT
DTSTART;TZID=America/New_York:20260510T080000
DTEND;TZID=America/New_York:20260510T160000
DTSTAMP:20260422T223413
CREATED:20251003T162535Z
LAST-MODIFIED:20260419T190245Z
UID:10001252-1778400000-1778428800@gunstuff.tv
SUMMARY:High Power Rifle Match
DESCRIPTION:Details here: https://www.fxrgc.org/rifle/high-power-rifle-spring-league/
URL:https://gunstuff.tv/event/high-power-rifle-match-14/
LOCATION:Benson Range
END:VEVENT
BEGIN:VEVENT
DTSTART;TZID=America/New_York:20260516T080000
DTEND;TZID=America/New_York:20260516T160000
DTSTAMP:20260422T223413
CREATED:20251003T162535Z
LAST-MODIFIED:20260419T190245Z
UID:10001254-1778918400-1778947200@gunstuff.tv
SUMMARY:High Power Rifle Match
DESCRIPTION:Details here: https://www.fxrgc.org/rifle/high-power-rifle-spring-league/
URL:https://gunstuff.tv/event/high-power-rifle-match-15/
LOCATION:Benson Range
END:VEVENT
BEGIN:VEVENT
DTSTART;TZID=America/New_York:20260517T080000
DTEND;TZID=America/New_York:20260517T160000
DTSTAMP:20260422T223413
CREATED:20251003T162535Z
LAST-MODIFIED:20260419T190246Z
UID:10001255-1779004800-1779033600@gunstuff.tv
SUMMARY:High Power Rifle Match
DESCRIPTION:Details here: https://www.fxrgc.org/rifle/high-power-rifle-spring-league/
URL:https://gunstuff.tv/event/high-power-rifle-match-16/
LOCATION:Benson Range
END:VEVENT
BEGIN:VEVENT
DTSTART;TZID=America/New_York:20260524T080000
DTEND;TZID=America/New_York:20260524T150000
DTSTAMP:20260422T223413
CREATED:20260111T181635Z
LAST-MODIFIED:20260419T190246Z
UID:10004381-1779609600-1779634800@gunstuff.tv
SUMMARY:Cast Bullet Benchrest
DESCRIPTION:Cast Bullet Benchrest match registered with the Cast Bullet Association (CBA). 100 & 200 yd score and military competition based on CBA rules. Any rifle and ammunition is welcome as an Unclassified Entry to familiarize themselves with the course of fire. Contact Mark Mazzocco memazzocco@verizon.net for more info. 
URL:https://gunstuff.tv/event/cast-bullet-benchrest-4/
LOCATION:Benson Range
END:VEVENT
BEGIN:VEVENT
DTSTART;TZID=America/New_York:20260606T080000
DTEND;TZID=America/New_York:20260606T160000
DTSTAMP:20260422T223413
CREATED:20251003T162535Z
LAST-MODIFIED:20260419T190247Z
UID:10001260-1780732800-1780761600@gunstuff.tv
SUMMARY:High Power Rifle Match
DESCRIPTION:Details here: https://www.fxrgc.org/rifle/high-power-rifle-monthly/
URL:https://gunstuff.tv/event/high-power-rifle-match-17/
LOCATION:Benson Range
END:VEVENT
BEGIN:VEVENT
DTSTART;TZID=America/New_York:20260614T080000
DTEND;TZID=America/New_York:20260614T150000
DTSTAMP:20260422T223413
CREATED:20260111T181636Z
LAST-MODIFIED:20260419T190249Z
UID:10004384-1781424000-1781449200@gunstuff.tv
SUMMARY:Cast Bullet Benchrest
DESCRIPTION:Cast Bullet Benchrest match registered with the Cast Bullet Association (CBA). 100 & 200 yd score and military competition based on CBA rules. Any rifle and ammunition is welcome as an Unclassified Entry to familiarize themselves with the course of fire. Contact Mark Mazzocco memazzocco@verizon.net for more info. 
URL:https://gunstuff.tv/event/cast-bullet-benchrest-5/
LOCATION:Benson Range
END:VEVENT
BEGIN:VEVENT
DTSTART;TZID=America/New_York:20260620T080000
DTEND;TZID=America/New_York:20260620T160000
DTSTAMP:20260422T223413
CREATED:20251003T162535Z
LAST-MODIFIED:20260419T190249Z
UID:10001265-1781942400-1781971200@gunstuff.tv
SUMMARY:High Power Rifle Match
DESCRIPTION:Details here: https://www.fxrgc.org/rifle/high-power-rifle-monthly/
URL:https://gunstuff.tv/event/high-power-rifle-match-18/
LOCATION:Benson Range
END:VEVENT
BEGIN:VEVENT
DTSTART;TZID=America/New_York:20260704T080000
DTEND;TZID=America/New_York:20260704T160000
DTSTAMP:20260422T223413
CREATED:20251003T162536Z
LAST-MODIFIED:20260419T190250Z
UID:10001270-1783152000-1783180800@gunstuff.tv
SUMMARY:High Power Rifle Match
DESCRIPTION:Details here: https://www.fxrgc.org/rifle/high-power-rifle-monthly/
URL:https://gunstuff.tv/event/high-power-rifle-match-19/
LOCATION:Benson Range
END:VEVENT
BEGIN:VEVENT
DTSTART;TZID=America/New_York:20260718T080000
DTEND;TZID=America/New_York:20260718T160000
DTSTAMP:20260422T223413
CREATED:20251003T162536Z
LAST-MODIFIED:20260419T190251Z
UID:10001272-1784361600-1784390400@gunstuff.tv
SUMMARY:High Power Rifle Match
DESCRIPTION:Details here: https://www.fxrgc.org/rifle/high-power-rifle-monthly/
URL:https://gunstuff.tv/event/high-power-rifle-match-20/
LOCATION:Benson Range
END:VEVENT
BEGIN:VEVENT
DTSTART;TZID=America/New_York:20260719T080000
DTEND;TZID=America/New_York:20260719T150000
DTSTAMP:20260422T223413
CREATED:20260111T181637Z
LAST-MODIFIED:20260419T190252Z
UID:10004386-1784448000-1784473200@gunstuff.tv
SUMMARY:Cast Bullet Benchrest
DESCRIPTION:Cast Bullet Benchrest match registered with the Cast Bullet Association (CBA). 100 & 200 yd score and military competition based on CBA rules. Any rifle and ammunition is welcome as an Unclassified Entry to familiarize themselves with the course of fire. Contact Mark Mazzocco memazzocco@verizon.net for more info. 
URL:https://gunstuff.tv/event/cast-bullet-benchrest-6/
LOCATION:Benson Range
END:VEVENT
BEGIN:VEVENT
DTSTART;TZID=America/New_York:20260815T080000
DTEND;TZID=America/New_York:20260815T160000
DTSTAMP:20260422T223413
CREATED:20251003T162536Z
LAST-MODIFIED:20260419T190253Z
UID:10001276-1786780800-1786809600@gunstuff.tv
SUMMARY:High Power Rifle Match
DESCRIPTION:Details here: https://www.fxrgc.org/rifle/high-power-rifle-vintage/
URL:https://gunstuff.tv/event/high-power-rifle-match-21/
LOCATION:Benson Range
END:VEVENT
BEGIN:VEVENT
DTSTART;TZID=America/New_York:20260816T080000
DTEND;TZID=America/New_York:20260816T150000
DTSTAMP:20260422T223413
CREATED:20260111T181637Z
LAST-MODIFIED:20260419T190254Z
UID:10004388-1786867200-1786892400@gunstuff.tv
SUMMARY:Cast Bullet Benchrest
DESCRIPTION:Cast Bullet Benchrest match registered with the Cast Bullet Association (CBA). 100 & 200 yd score and military competition based on CBA rules. Any rifle and ammunition is welcome as an Unclassified Entry to familiarize themselves with the course of fire. Contact Mark Mazzocco memazzocco@verizon.net for more info. 
URL:https://gunstuff.tv/event/cast-bullet-benchrest-7/
LOCATION:Benson Range
END:VEVENT
BEGIN:VEVENT
DTSTART;TZID=America/New_York:20260905T080000
DTEND;TZID=America/New_York:20260905T160000
DTSTAMP:20260422T223413
CREATED:20251003T162536Z
LAST-MODIFIED:20260419T190255Z
UID:10001281-1788595200-1788624000@gunstuff.tv
SUMMARY:High Power Rifle Match
DESCRIPTION:Details here: https://www.fxrgc.org/rifle/high-power-rifle-vintage/
URL:https://gunstuff.tv/event/high-power-rifle-match-22/
LOCATION:Benson Range
END:VEVENT
BEGIN:VEVENT
DTSTART;TZID=America/New_York:20260913T080000
DTEND;TZID=America/New_York:20260913T150000
DTSTAMP:20260422T223413
CREATED:20260111T181638Z
LAST-MODIFIED:20260419T190256Z
UID:10004392-1789286400-1789311600@gunstuff.tv
SUMMARY:Cast Bullet Benchrest
DESCRIPTION:Cast Bullet Benchrest match registered with the Cast Bullet Association (CBA). 100 & 200 yd score and military competition based on CBA rules. Any rifle and ammunition is welcome as an Unclassified Entry to familiarize themselves with the course of fire. Contact Mark Mazzocco memazzocco@verizon.net for more info. 
URL:https://gunstuff.tv/event/cast-bullet-benchrest-8/
LOCATION:Benson Range
END:VEVENT
BEGIN:VEVENT
DTSTART;TZID=America/New_York:20260919T080000
DTEND;TZID=America/New_York:20260919T160000
DTSTAMP:20260422T223413
CREATED:20251003T162536Z
LAST-MODIFIED:20260419T190256Z
UID:10001283-1789804800-1789833600@gunstuff.tv
SUMMARY:High Power Rifle Match
DESCRIPTION:Details here: https://www.fxrgc.org/rifle/high-power-rifle-monthly/
URL:https://gunstuff.tv/event/high-power-rifle-match-23/
LOCATION:Benson Range
END:VEVENT
BEGIN:VEVENT
DTSTART;TZID=America/New_York:20261003T080000
DTEND;TZID=America/New_York:20261003T160000
DTSTAMP:20260422T223413
CREATED:20251003T162536Z
LAST-MODIFIED:20260419T190256Z
UID:10001286-1791014400-1791043200@gunstuff.tv
SUMMARY:High Power Rifle Match
DESCRIPTION:Details here: https://www.fxrgc.org/rifle/high-power-rifle-monthly/
URL:https://gunstuff.tv/event/high-power-rifle-match-24/
LOCATION:Benson Range
END:VEVENT
BEGIN:VEVENT
DTSTART;TZID=America/New_York:20261017T080000
DTEND;TZID=America/New_York:20261017T160000
DTSTAMP:20260422T223413
CREATED:20251003T162536Z
LAST-MODIFIED:20260419T190258Z
UID:10001287-1792224000-1792252800@gunstuff.tv
SUMMARY:High Power Rifle Match
DESCRIPTION:Details here: https://www.fxrgc.org/rifle/high-power-rifle-vintage/
URL:https://gunstuff.tv/event/high-power-rifle-match-25/
LOCATION:Benson Range
END:VEVENT
BEGIN:VEVENT
DTSTART;TZID=America/New_York:20261018T080000
DTEND;TZID=America/New_York:20261018T150000
DTSTAMP:20260422T223413
CREATED:20260111T181638Z
LAST-MODIFIED:20260419T190258Z
UID:10004397-1792310400-1792335600@gunstuff.tv
SUMMARY:Cast Bullet Benchrest
DESCRIPTION:Cast Bullet Benchrest match registered with the Cast Bullet Association (CBA). 100 & 200 yd score and military competition based on CBA rules. Any rifle and ammunition is welcome as an Unclassified Entry to familiarize themselves with the course of fire. Contact Mark Mazzocco memazzocco@verizon.net for more info. 
URL:https://gunstuff.tv/event/cast-bullet-benchrest-9/
LOCATION:Benson Range
END:VEVENT
BEGIN:VEVENT
DTSTART;TZID=America/New_York:20261107T080000
DTEND;TZID=America/New_York:20261107T160000
DTSTAMP:20260422T223413
CREATED:20251003T162536Z
LAST-MODIFIED:20260419T190259Z
UID:10001292-1794038400-1794067200@gunstuff.tv
SUMMARY:High Power Rifle Match
DESCRIPTION:Details here: https://www.fxrgc.org/rifle/high-power-rifle-monthly/
URL:https://gunstuff.tv/event/high-power-rifle-match-26/
LOCATION:Benson Range
END:VEVENT
BEGIN:VEVENT
DTSTART;TZID=America/New_York:20261121T080000
DTEND;TZID=America/New_York:20261121T160000
DTSTAMP:20260422T223413
CREATED:20251003T162536Z
LAST-MODIFIED:20260419T190300Z
UID:10001294-1795248000-1795276800@gunstuff.tv
SUMMARY:High Power Rifle Match
DESCRIPTION:Details here: https://www.fxrgc.org/rifle/high-power-rifle-vintage/
URL:https://gunstuff.tv/event/high-power-rifle-match-27/
LOCATION:Benson Range
END:VEVENT
BEGIN:VEVENT
DTSTART;TZID=America/New_York:20261205T080000
DTEND;TZID=America/New_York:20261205T160000
DTSTAMP:20260422T223413
CREATED:20251003T162537Z
LAST-MODIFIED:20260419T190300Z
UID:10001298-1796457600-1796486400@gunstuff.tv
SUMMARY:High Power Rifle Match
DESCRIPTION:Details here: https://www.fxrgc.org/rifle/high-power-rifle-monthly/
URL:https://gunstuff.tv/event/high-power-rifle-match-28/
LOCATION:Benson Range
END:VEVENT
BEGIN:VEVENT
DTSTART;TZID=America/New_York:20261219T080000
DTEND;TZID=America/New_York:20261219T160000
DTSTAMP:20260422T223413
CREATED:20251003T162537Z
LAST-MODIFIED:20260419T190301Z
UID:10001299-1797667200-1797696000@gunstuff.tv
SUMMARY:High Power Rifle Match
DESCRIPTION:Details here: https://www.fxrgc.org/rifle/high-power-rifle-monthly/
URL:https://gunstuff.tv/event/high-power-rifle-match-29/
LOCATION:Benson Range
END:VEVENT
END:VCALENDAR