BEGIN:VCALENDAR
VERSION:2.0
PRODID:-//GunStuff TV - ECPv6.15.20//NONSGML v1.0//EN
CALSCALE:GREGORIAN
METHOD:PUBLISH
X-WR-CALNAME:GunStuff TV
X-ORIGINAL-URL:https://gunstuff.tv
X-WR-CALDESC:Events for GunStuff TV
REFRESH-INTERVAL;VALUE=DURATION:PT1H
X-Robots-Tag:noindex
X-PUBLISHED-TTL:PT1H
BEGIN:VTIMEZONE
TZID:UTC
BEGIN:STANDARD
TZOFFSETFROM:+0000
TZOFFSETTO:+0000
TZNAME:UTC
DTSTART:20250101T000000
END:STANDARD
END:VTIMEZONE
BEGIN:VEVENT
DTSTART;TZID=UTC:20260425T070000
DTEND;TZID=UTC:20260425T120000
DTSTAMP:20260423T062325
CREATED:20260421T200314Z
LAST-MODIFIED:20260421T200314Z
UID:10008243-1777100400-1777118400@gunstuff.tv
SUMMARY:IPSC pradinukams Handgun/PCC  LVL l Clone
DESCRIPTION:Kviečiame registruotis šaulius\, kurie nėra reitinguoti arba surinko iki 25 proc. nacionalinio reitingo taškų 2025 m. Handgun ar PCC divizionuose. Neturintys reitingo\, bet organizatorių nuomone viršijantys pradinukų lygį\, bus perregistruoti į Open divizioną.\n8 pratimai\nŠūvių skaičius min. 100\nRegistracijos pradžia 10:00\, registracijos pabaiga 10:45\, varžybų pradžia 11:00\nNorintys teisėjauti grupės nesirenka.\nStarto mokestis 60€\nNorint užsiregistruoti į varžybas\, mokate 20€ depositą\, kuris neatvykus negražinamas.\nLikusi suma mokama vietoje grynais. Norintiems dalyvauti po registracijos pabaigos +20€\nMaitinimas įskaičiuota.\nBanko rekvizitai:\nUAB Borda\nBankas Luminor\nLT984010051003376172\nPaskirtis: šaudyklos paslaugos 2026-04-25; vardas\, pavardė
URL:https://gunstuff.tv/event/ipsc-pradinukams-handgun-pcc-lvl-l-clone/
LOCATION:\, Babromiskes LITHUANIA\, Lithuania
END:VEVENT
BEGIN:VEVENT
DTSTART;TZID=UTC:20260425T080000
DTEND;TZID=UTC:20260425T130000
DTSTAMP:20260423T062325
CREATED:20260421T200321Z
LAST-MODIFIED:20260421T200321Z
UID:10008298-1777104000-1777122000@gunstuff.tv
SUMMARY:LSG pradinukai Handgun/PCC LVL I
DESCRIPTION:Kviečiame registruotis šaulius\, kurie nėra reitinguoti arba surinko iki 25 proc. nacionalinio reitingo taškų 2025 m. Handgun ar PCC divizionuose. Neturintys reitingo\, bet organizatorių nuomone viršijantys pradinukų lygį\, bus perregistruoti į Open divizioną.\n8 pratimai\nŠūvių skaičius min. 100\nRegistracijos pradžia 10:00\, registracijos pabaiga 10:45\, varžybų pradžia 11:00\nNorintys teisėjauti grupės nesirenka.\nStarto mokestis 60€\nNorint užsiregistruoti į varžybas\, mokate 20€ depositą\, kuris nedalyvavus varžybose negražinamas.\nLikusi suma mokama vietoje grynais. Norintiems dalyvauti po registracijos pabaigos +20€\nMaitinimas įskaičiuota.\nBanko rekvizitai:\nUAB Borda\nBankas Luminor\nLT984010051003376172\nPaskirtis: šaudyklos paslaugos 2026-04-25; vardas\, pavardė
URL:https://gunstuff.tv/event/lsg-pradinukai-handgun-pcc-lvl-i/
LOCATION:\, Babromiskes LITHUANIA\, Lithuania
END:VEVENT
END:VCALENDAR