BEGIN:VCALENDAR
VERSION:2.0
PRODID:-//GunStuff TV - ECPv6.15.20//NONSGML v1.0//EN
CALSCALE:GREGORIAN
METHOD:PUBLISH
X-ORIGINAL-URL:https://gunstuff.tv
X-WR-CALDESC:Events for GunStuff TV
REFRESH-INTERVAL;VALUE=DURATION:PT1H
X-Robots-Tag:noindex
X-PUBLISHED-TTL:PT1H
BEGIN:VTIMEZONE
TZID:America/Chicago
BEGIN:DAYLIGHT
TZOFFSETFROM:-0600
TZOFFSETTO:-0500
TZNAME:CDT
DTSTART:20250309T080000
END:DAYLIGHT
BEGIN:STANDARD
TZOFFSETFROM:-0500
TZOFFSETTO:-0600
TZNAME:CST
DTSTART:20251102T070000
END:STANDARD
BEGIN:DAYLIGHT
TZOFFSETFROM:-0600
TZOFFSETTO:-0500
TZNAME:CDT
DTSTART:20260308T080000
END:DAYLIGHT
BEGIN:STANDARD
TZOFFSETFROM:-0500
TZOFFSETTO:-0600
TZNAME:CST
DTSTART:20261101T070000
END:STANDARD
BEGIN:DAYLIGHT
TZOFFSETFROM:-0600
TZOFFSETTO:-0500
TZNAME:CDT
DTSTART:20270314T080000
END:DAYLIGHT
BEGIN:STANDARD
TZOFFSETFROM:-0500
TZOFFSETTO:-0600
TZNAME:CST
DTSTART:20271107T070000
END:STANDARD
END:VTIMEZONE
BEGIN:VEVENT
DTSTART;TZID=America/Chicago:20260417T080000
DTEND;TZID=America/Chicago:20260417T170000
DTSTAMP:20260422T214120
CREATED:20251102T201640Z
LAST-MODIFIED:20260412T211742Z
UID:10002863-1776412800-1776445200@gunstuff.tv
SUMMARY:Private Sporting Clays Event
DESCRIPTION:Clays course will be closed for a private event.
URL:https://gunstuff.tv/event/private-sporting-clays-event-3/
LOCATION:Austin Gun Club\, 1999 S Key Ave\, Lampasas\, TX\, United States
CATEGORIES:Private Event
ATTACH;FMTTYPE=image/png:https://gunstuff.tv/wp-content/uploads/2025/11/Private-Event-Notice-EGtBqz.png
GEO:31.050454;-98.174788
X-APPLE-STRUCTURED-LOCATION;VALUE=URI;X-ADDRESS=Austin Gun Club 1999 S Key Ave Lampasas TX United States;X-APPLE-RADIUS=500;X-TITLE=1999 S Key Ave:geo:-98.174788,31.050454
END:VEVENT
BEGIN:VEVENT
DTSTART;TZID=America/Chicago:20260417T080000
DTEND;TZID=America/Chicago:20260417T170000
DTSTAMP:20260422T214120
CREATED:20251102T201640Z
LAST-MODIFIED:20251102T201640Z
UID:10002857-1776412800-1776445200@gunstuff.tv
SUMMARY:Private Sporting Clays Event
DESCRIPTION:Clays course will be closed for a private event.
URL:https://gunstuff.tv/event/private-sporting-clays-event-4/
LOCATION:Austin Gun Club\, 1999 S Key Ave\, Lampasas\, TX\, United States
CATEGORIES:Private Event
ATTACH;FMTTYPE=image/png:https://gunstuff.tv/wp-content/uploads/2025/11/Private-Event-Notice-EGtBqz.png
GEO:31.050454;-98.174788
X-APPLE-STRUCTURED-LOCATION;VALUE=URI;X-ADDRESS=Austin Gun Club 1999 S Key Ave Lampasas TX United States;X-APPLE-RADIUS=500;X-TITLE=1999 S Key Ave:geo:-98.174788,31.050454
END:VEVENT
BEGIN:VEVENT
DTSTART;TZID=America/Chicago:20260411T080000
DTEND;TZID=America/Chicago:20260411T170000
DTSTAMP:20260422T214120
CREATED:20251102T201639Z
LAST-MODIFIED:20251102T201639Z
UID:10002856-1775894400-1775926800@gunstuff.tv
SUMMARY:Private Sporting Clays Event
DESCRIPTION:Clays course will be closed for a private event.
URL:https://gunstuff.tv/event/private-sporting-clays-event-2/
LOCATION:Austin Gun Club\, 1999 S Key Ave\, Lampasas\, TX\, United States
CATEGORIES:Private Event
ATTACH;FMTTYPE=image/png:https://gunstuff.tv/wp-content/uploads/2025/11/Private-Event-Notice-EGtBqz.png
GEO:31.050454;-98.174788
X-APPLE-STRUCTURED-LOCATION;VALUE=URI;X-ADDRESS=Austin Gun Club 1999 S Key Ave Lampasas TX United States;X-APPLE-RADIUS=500;X-TITLE=1999 S Key Ave:geo:-98.174788,31.050454
END:VEVENT
BEGIN:VEVENT
DTSTART;TZID=America/Chicago:20260411T080000
DTEND;TZID=America/Chicago:20260411T170000
DTSTAMP:20260422T214120
CREATED:20251102T201638Z
LAST-MODIFIED:20260405T211643Z
UID:10002862-1775894400-1775926800@gunstuff.tv
SUMMARY:Private Sporting Clays Event
DESCRIPTION:Clays course will be closed for a private event.
URL:https://gunstuff.tv/event/private-sporting-clays-event/
LOCATION:Austin Gun Club\, 1999 S Key Ave\, Lampasas\, TX\, United States
CATEGORIES:Private Event
ATTACH;FMTTYPE=image/png:https://gunstuff.tv/wp-content/uploads/2025/11/Private-Event-Notice-EGtBqz.png
GEO:31.050454;-98.174788
X-APPLE-STRUCTURED-LOCATION;VALUE=URI;X-ADDRESS=Austin Gun Club 1999 S Key Ave Lampasas TX United States;X-APPLE-RADIUS=500;X-TITLE=1999 S Key Ave:geo:-98.174788,31.050454
END:VEVENT
BEGIN:VEVENT
DTSTART;TZID=America/Chicago:20260327T080000
DTEND;TZID=America/Chicago:20260329T170000
DTSTAMP:20260422T214120
CREATED:20251102T201637Z
LAST-MODIFIED:20251102T201637Z
UID:10002855-1774598400-1774803600@gunstuff.tv
SUMMARY:Bluebonnet Open 2026
DESCRIPTION:Stay tuned….
URL:https://gunstuff.tv/event/bluebonnet-open-2026-2/
LOCATION:Austin Gun Club\, 1999 S Key Ave\, Lampasas\, TX\, United States
CATEGORIES:USHA Helice
ATTACH;FMTTYPE=image/png:https://gunstuff.tv/wp-content/uploads/2025/11/2026-Helice-Events-850-xdDcVe.png
GEO:31.050454;-98.174788
X-APPLE-STRUCTURED-LOCATION;VALUE=URI;X-ADDRESS=Austin Gun Club 1999 S Key Ave Lampasas TX United States;X-APPLE-RADIUS=500;X-TITLE=1999 S Key Ave:geo:-98.174788,31.050454
END:VEVENT
BEGIN:VEVENT
DTSTART;TZID=America/Chicago:20260327T080000
DTEND;TZID=America/Chicago:20260329T170000
DTSTAMP:20260422T214120
CREATED:20251102T201636Z
LAST-MODIFIED:20260329T211630Z
UID:10002861-1774598400-1774803600@gunstuff.tv
SUMMARY:Bluebonnet Open 2026
DESCRIPTION:2026 Bluebonnet Open Registration         \n                    Subscribe                 \n        2026 Bluebonnet Open\nMarch 27-29\, 2026\nHelice Tournament Registration\nUse this form to register for the Bluebonnet Open Helice Tournament at Austin Gun Club.\nThis form is designed to give basic registration information and to let us know you will be at the tournament. Once we receive your registration\, we will populate Helice Sports with your information. Options can be selected upon arrival at check in for the tournmant. First NameLast NameEmailPhone/MobileHelp us plan by adding the following information:Select the days you want to register for:  Friday\, 3/27/2026 Saturday\, 3/28/2026 Sunday\, 3/29/2026Requested Shooter#Will you have any guests with you? No YesHow many guests?Purchase guest meals? $20/Day/Person Yes NoHow many guests meals?Golf Cart Rental\nWe wanted to offer golf cart rental for those who want to have their own “designated” golf cart for the tournament. I plan to have several on hand for our volunteers but if anyone wanted to rent a cart for the weekend just for their use\, you can let me know here. \nCosts:\n$50/day for a 4 person golf cart. \nReservations are required to make sure you have your cart reserved.\nGolf Cart Rental Yes NoSelect the Days you want to rent a golf cart: Friday Saturday SundayRV Slots & Dry Camping Reservations\nOur RV Slots have water and electricity\, no septic. Spots are limited and granted in order requested. We have plenty of room for all who want to Dry Camp and will have signs directing to the Dry Camp area.\nPlease Note: Selecting a slot is a request only. We will confirm via email slot selection\, assignment &/or other avaiability. \nCosts:\nRV Slot $40/Day with a 2-Night minimum.\nDry Camp – No Charge\nDid you want to request an RV Slot or Dry Camping?  Yes NoSelect which you want to reserve: RV Slot at $40/Night (Full – Wait List Only as of 3/11/2025) Dry Camping – No ChargeWhich RV Spot would you like to Reserve?- Select -Any Available – Wait List Only as of 3/11/25)Add to waitlist if all are full? Yes NoWhat day do you plan to arrive?- Select -ThursdayFridaySaturdayWhat day do you plan to depart?- Select -SaturdaySundayMondayLet us know anything else that would be helpful…Submit Form
URL:https://gunstuff.tv/event/bluebonnet-open-2026/
LOCATION:Austin Gun Club\, 1999 S Key Ave\, Lampasas\, TX\, United States
CATEGORIES:USHA Helice
ATTACH;FMTTYPE=image/png:https://gunstuff.tv/wp-content/uploads/2026/03/2026-BB-Open-Header-dEVLrS.png
GEO:31.050454;-98.174788
X-APPLE-STRUCTURED-LOCATION;VALUE=URI;X-ADDRESS=Austin Gun Club 1999 S Key Ave Lampasas TX United States;X-APPLE-RADIUS=500;X-TITLE=1999 S Key Ave:geo:-98.174788,31.050454
END:VEVENT
BEGIN:VEVENT
DTSTART;TZID=America/Chicago:20260322T080000
DTEND;TZID=America/Chicago:20260322T170000
DTSTAMP:20260422T214120
CREATED:20260315T211629Z
LAST-MODIFIED:20260322T211630Z
UID:10006335-1774166400-1774198800@gunstuff.tv
SUMMARY:NSCA Blooming Clays 2026
DESCRIPTION:
URL:https://gunstuff.tv/event/nsca-blooming-clays-2026-3/
LOCATION:Austin Gun Club\, 1999 S Key Ave\, Lampasas\, TX\, United States
CATEGORIES:NSCA Registered Shoot
ATTACH;FMTTYPE=image/png:https://gunstuff.tv/wp-content/uploads/2026/03/3.22.26-Blooming-Clays-Flyer-Header-o9WfLN.png
GEO:31.050454;-98.174788
X-APPLE-STRUCTURED-LOCATION;VALUE=URI;X-ADDRESS=Austin Gun Club 1999 S Key Ave Lampasas TX United States;X-APPLE-RADIUS=500;X-TITLE=1999 S Key Ave:geo:-98.174788,31.050454
END:VEVENT
BEGIN:VEVENT
DTSTART;TZID=America/Chicago:20260314T080000
DTEND;TZID=America/Chicago:20260314T170000
DTSTAMP:20260422T214120
CREATED:20251102T201637Z
LAST-MODIFIED:20251102T201637Z
UID:10002854-1773475200-1773507600@gunstuff.tv
SUMMARY:NSCA Blooming Clays 2026
DESCRIPTION:Stay tuned…
URL:https://gunstuff.tv/event/nsca-blooming-clays-2026-2/
LOCATION:Austin Gun Club\, 1999 S Key Ave\, Lampasas\, TX\, United States
CATEGORIES:NSCA Registered Shoot
ATTACH;FMTTYPE=image/png:https://gunstuff.tv/wp-content/uploads/2025/11/2026-NSCA-Events-850-3RANT6.png
GEO:31.050454;-98.174788
X-APPLE-STRUCTURED-LOCATION;VALUE=URI;X-ADDRESS=Austin Gun Club 1999 S Key Ave Lampasas TX United States;X-APPLE-RADIUS=500;X-TITLE=1999 S Key Ave:geo:-98.174788,31.050454
END:VEVENT
BEGIN:VEVENT
DTSTART;TZID=America/Chicago:20260314T080000
DTEND;TZID=America/Chicago:20260314T170000
DTSTAMP:20260422T214120
CREATED:20251102T201636Z
LAST-MODIFIED:20260308T211625Z
UID:10002860-1773475200-1773507600@gunstuff.tv
SUMMARY:NSCA Blooming Clays 2026
DESCRIPTION:Stay tuned…
URL:https://gunstuff.tv/event/nsca-blooming-clays-2026/
LOCATION:Austin Gun Club\, 1999 S Key Ave\, Lampasas\, TX\, United States
CATEGORIES:NSCA Registered Shoot
ATTACH;FMTTYPE=image/png:https://gunstuff.tv/wp-content/uploads/2025/11/2026-NSCA-Events-850-3RANT6.png
GEO:31.050454;-98.174788
X-APPLE-STRUCTURED-LOCATION;VALUE=URI;X-ADDRESS=Austin Gun Club 1999 S Key Ave Lampasas TX United States;X-APPLE-RADIUS=500;X-TITLE=1999 S Key Ave:geo:-98.174788,31.050454
END:VEVENT
BEGIN:VEVENT
DTSTART;TZID=America/Chicago:20260221T080000
DTEND;TZID=America/Chicago:20260221T170000
DTSTAMP:20260422T214120
CREATED:20251102T201637Z
LAST-MODIFIED:20251102T201637Z
UID:10002853-1771660800-1771693200@gunstuff.tv
SUMMARY:NSCA Love Me Some Clays 2026
DESCRIPTION:Stay tuned….
URL:https://gunstuff.tv/event/nsca-love-me-some-clays-2026-2/
LOCATION:Austin Gun Club\, 1999 S Key Ave\, Lampasas\, TX\, United States
CATEGORIES:NSCA Registered Shoot
ATTACH;FMTTYPE=image/png:https://gunstuff.tv/wp-content/uploads/2025/11/2026-NSCA-Events-850-3RANT6.png
GEO:31.050454;-98.174788
X-APPLE-STRUCTURED-LOCATION;VALUE=URI;X-ADDRESS=Austin Gun Club 1999 S Key Ave Lampasas TX United States;X-APPLE-RADIUS=500;X-TITLE=1999 S Key Ave:geo:-98.174788,31.050454
END:VEVENT
BEGIN:VEVENT
DTSTART;TZID=America/Chicago:20260221T080000
DTEND;TZID=America/Chicago:20260221T170000
DTSTAMP:20260422T214120
CREATED:20251102T201636Z
LAST-MODIFIED:20260215T210130Z
UID:10002859-1771660800-1771693200@gunstuff.tv
SUMMARY:NSCA Love Me Some Clays 2026
DESCRIPTION:
URL:https://gunstuff.tv/event/nsca-love-me-some-clays-2026/
LOCATION:Austin Gun Club\, 1999 S Key Ave\, Lampasas\, TX\, United States
CATEGORIES:NSCA Registered Shoot
ATTACH;FMTTYPE=image/png:https://gunstuff.tv/wp-content/uploads/2026/01/Love-Me-some-Clays-Header-SC-Rv2GRK.png
GEO:31.050454;-98.174788
X-APPLE-STRUCTURED-LOCATION;VALUE=URI;X-ADDRESS=Austin Gun Club 1999 S Key Ave Lampasas TX United States;X-APPLE-RADIUS=500;X-TITLE=1999 S Key Ave:geo:-98.174788,31.050454
END:VEVENT
END:VCALENDAR