BEGIN:VCALENDAR
VERSION:2.0
PRODID:-//GunStuff TV - ECPv6.15.20//NONSGML v1.0//EN
CALSCALE:GREGORIAN
METHOD:PUBLISH
X-ORIGINAL-URL:https://gunstuff.tv
X-WR-CALDESC:Events for GunStuff TV
REFRESH-INTERVAL;VALUE=DURATION:PT1H
X-Robots-Tag:noindex
X-PUBLISHED-TTL:PT1H
BEGIN:VTIMEZONE
TZID:UTC
BEGIN:STANDARD
TZOFFSETFROM:+0000
TZOFFSETTO:+0000
TZNAME:UTC
DTSTART:20250101T000000
END:STANDARD
END:VTIMEZONE
BEGIN:VEVENT
DTSTART;TZID=UTC:20261003T090000
DTEND;TZID=UTC:20261003T090000
DTSTAMP:20260421T213939
CREATED:20260329T110239Z
LAST-MODIFIED:20260412T110202Z
UID:10006616-1791018000-1791018000@gunstuff.tv
SUMMARY:Appleseed
DESCRIPTION:New Marshfield\, OH – Athens Fish and Game Club\nOctober 03\, 2026 – October 04\, 2026\nThis is a traditional 25m Project Appleseed rifle event.\nBoth Centerfire and 22 Rimfire rifles are allowed at this event.\nRegister Now\nAddress: 600 Robinette Ridge Road\, New Marshfield\, OH 45766\nPlease Read:  How to Prepare for an Event\nSafety Notice:\n–  Keep ALL firearms in your vehicle until after the safety briefing and you are instructed to bring them to the firing line.\n–  No illegal firearms are allowed.\n–  At centerfire-friendly ranges\, rifle cartridges are limited to 8mm (rifle) or .45 caliber (pistol and pistol caliber carbines).\n–  Effective 8/8/2025\, Project Appleseed has temporarily suspended the SIG-Sauer P320/M17/M18 (all variants) in our Pistol Clinics.\n–  Parents of youth attending\, please read our Message to Parents.\nSubject to state and local laws\, Instructors at your event may have discounted .22 ammo available. Reach out to the contact at the bottom of this page for availability.\nRange Fee:  $10 per person. Range members free.\nCamping Available:\nPrimitive camping is allowed (no hookups) for a $10 donation.\nIndoor bathrooms and shower.\nBunkhouse is also available.\nHotels:\nDirections:\nGPS: 39.297521\,-82.286737\nState Laws to be aware of:\nIt is the responsibility of attendees to know and comply with all State and Federal Firearms Laws.\nOhio State Firearms Laws\nMisc:\nFor more information contact:\nName: OH State Coordinator Email Address: OH@appleseedinfo.org
URL:https://gunstuff.tv/event/appleseed-312/
LOCATION:Athens Fish and Game Club\, 600 Robinette Ridge Rd\, New Marshfield\, OH\, United States
GEO:39.29736;-82.28622
X-APPLE-STRUCTURED-LOCATION;VALUE=URI;X-ADDRESS=Athens Fish and Game Club 600 Robinette Ridge Rd New Marshfield OH United States;X-APPLE-RADIUS=500;X-TITLE=600 Robinette Ridge Rd:geo:-82.28622,39.29736
END:VEVENT
END:VCALENDAR