BEGIN:VCALENDAR
VERSION:2.0
PRODID:-//GunStuff TV - ECPv6.15.20//NONSGML v1.0//EN
CALSCALE:GREGORIAN
METHOD:PUBLISH
X-WR-CALNAME:GunStuff TV
X-ORIGINAL-URL:https://gunstuff.tv
X-WR-CALDESC:Events for GunStuff TV
REFRESH-INTERVAL;VALUE=DURATION:PT1H
X-Robots-Tag:noindex
X-PUBLISHED-TTL:PT1H
BEGIN:VTIMEZONE
TZID:UTC
BEGIN:STANDARD
TZOFFSETFROM:+0000
TZOFFSETTO:+0000
TZNAME:UTC
DTSTART:20250101T000000
END:STANDARD
END:VTIMEZONE
BEGIN:VEVENT
DTSTART;TZID=UTC:20260328T090000
DTEND;TZID=UTC:20260328T090000
DTSTAMP:20260424T114407
CREATED:20260110T165454Z
LAST-MODIFIED:20260322T104708Z
UID:10003979-1774688400-1774688400@gunstuff.tv
SUMMARY:Appleseed
DESCRIPTION:Golden\, CO – Arvada Rifle and Pistol Club\nMarch 28\, 2026 – March 29\, 2026\nThis is a traditional 25m Project Appleseed rifle event.\nCenterfire is NOT allowed at this event – 22 Rimfire Only.\nRegister Now\nAddress: 5930 McIntyre St\, Golden\, CO 80403\nWebsite: https://www.arpcinc.com/\nPlease Read:  How to Prepare for an Event\nSafety Notice:\n–  Keep ALL firearms in your vehicle until after the safety briefing and you are instructed to bring them to the firing line.\n–  No illegal firearms are allowed.\n–  At centerfire-friendly ranges\, rifle cartridges are limited to 8mm (rifle) or .45 caliber (pistol and pistol caliber carbines).\n–  Effective 8/8/2025\, Project Appleseed has temporarily suspended the SIG-Sauer P320/M17/M18 (all variants) in our Pistol Clinics.\n–  Parents of youth attending\, please read our Message to Parents.\nSubject to state and local laws\, Instructors at your event may have discounted .22 ammo available. Reach out to the contact at the bottom of this page for availability.\nRange Fee:\n$10 / day\nCamping Available:\nHotels:\nDirections:\nFrom I-70\, take HWY 58 to Golden.  Take the first exit “McIntyre\,” Turn Right\, Stay on McIntyre for 2.2 miles to 59th Avenue\, Turn right (Storage Facility) and follow road to left then to the right.  Continue to end of road and turn right into parking lot.  ARPC is the far south building.\nGPS: 39.802269\,-105.173870\nState Laws to be aware of:\nIt is the responsibility of attendees to know and comply with all State and Federal Firearms Laws.\nColorado State Firearms Laws\nNo Magazines above 15 round capacity.\nMisc:\nThis is an indoor range. 22 rimfire and straight wall pistol cartridges\, only.  No magnums and no bottleneck cartridges (223 Remington\, 7.62×51 NATO\, etc.)\nFor more information contact:\nName: CO State Coordinator Email Address: CO@appleseedinfo.org Email Address: safety@arpcinc.com Phone: (720) 829-4180
URL:https://gunstuff.tv/event/appleseed-38/
LOCATION:Arvada Rifle and Pistol Club\, 5930 McIntyre St\, Golden\, CO\, United States
GEO:39.803006;-105.174744
X-APPLE-STRUCTURED-LOCATION;VALUE=URI;X-ADDRESS=Arvada Rifle and Pistol Club 5930 McIntyre St Golden CO United States;X-APPLE-RADIUS=500;X-TITLE=5930 McIntyre St:geo:-105.174744,39.803006
END:VEVENT
END:VCALENDAR