BEGIN:VCALENDAR
VERSION:2.0
PRODID:-//GunStuff TV - ECPv6.15.20//NONSGML v1.0//EN
CALSCALE:GREGORIAN
METHOD:PUBLISH
X-WR-CALNAME:GunStuff TV
X-ORIGINAL-URL:https://gunstuff.tv
X-WR-CALDESC:Events for GunStuff TV
REFRESH-INTERVAL;VALUE=DURATION:PT1H
X-Robots-Tag:noindex
X-PUBLISHED-TTL:PT1H
BEGIN:VTIMEZONE
TZID:America/New_York
BEGIN:DAYLIGHT
TZOFFSETFROM:-0500
TZOFFSETTO:-0400
TZNAME:EDT
DTSTART:20250309T070000
END:DAYLIGHT
BEGIN:STANDARD
TZOFFSETFROM:-0400
TZOFFSETTO:-0500
TZNAME:EST
DTSTART:20251102T060000
END:STANDARD
BEGIN:DAYLIGHT
TZOFFSETFROM:-0500
TZOFFSETTO:-0400
TZNAME:EDT
DTSTART:20260308T070000
END:DAYLIGHT
BEGIN:STANDARD
TZOFFSETFROM:-0400
TZOFFSETTO:-0500
TZNAME:EST
DTSTART:20261101T060000
END:STANDARD
BEGIN:DAYLIGHT
TZOFFSETFROM:-0500
TZOFFSETTO:-0400
TZNAME:EDT
DTSTART:20270314T070000
END:DAYLIGHT
BEGIN:STANDARD
TZOFFSETFROM:-0400
TZOFFSETTO:-0500
TZNAME:EST
DTSTART:20271107T060000
END:STANDARD
END:VTIMEZONE
BEGIN:VEVENT
DTSTART;TZID=America/New_York:20260425T080000
DTEND;TZID=America/New_York:20260425T123000
DTSTAMP:20260422T210253
CREATED:20251003T162405Z
LAST-MODIFIED:20260417T200128Z
UID:10001123-1777104000-1777120200@gunstuff.tv
SUMMARY:MRPC @ AGC Steel Challenge
DESCRIPTION:Steel Silhouette Targets
URL:https://gunstuff.tv/event/mrpc-agc-defensive-shooting-3/
LOCATION:AGC Shooting Bays 4\,5\,6
END:VEVENT
BEGIN:VEVENT
DTSTART;TZID=America/New_York:20260524T080000
DTEND;TZID=America/New_York:20260524T123000
DTSTAMP:20260422T210253
CREATED:20251003T162405Z
LAST-MODIFIED:20260417T200129Z
UID:10001124-1779609600-1779625800@gunstuff.tv
SUMMARY:MRPC @ AGC Steel Challenge
DESCRIPTION:Steel Silhouette Targets
URL:https://gunstuff.tv/event/mrpc-agc-defensive-shooting-4/
LOCATION:AGC Shooting Bays 4\,5\,6
END:VEVENT
BEGIN:VEVENT
DTSTART;TZID=America/New_York:20260822T080000
DTEND;TZID=America/New_York:20260822T123000
DTSTAMP:20260422T210253
CREATED:20251003T162405Z
LAST-MODIFIED:20260417T200129Z
UID:10001129-1787385600-1787401800@gunstuff.tv
SUMMARY:MRPC @ AGC Steel Challenge
DESCRIPTION:Steel Silhouette Targets
URL:https://gunstuff.tv/event/mrpc-agc-defensive-shooting-7/
LOCATION:AGC Shooting Bays 4\,5\,6
END:VEVENT
BEGIN:VEVENT
DTSTART;TZID=America/New_York:20260926T120000
DTEND;TZID=America/New_York:20260926T160000
DTSTAMP:20260422T210253
CREATED:20251003T162405Z
LAST-MODIFIED:20260417T200129Z
UID:10001130-1790424000-1790438400@gunstuff.tv
SUMMARY:MRPC @ AGC Steel Challenge
DESCRIPTION:Steel Silhouette Targets
URL:https://gunstuff.tv/event/mrpc-agc-defensive-shooting-8/
LOCATION:AGC Shooting Bays 4\,5\,6
END:VEVENT
BEGIN:VEVENT
DTSTART;TZID=America/New_York:20261024T120000
DTEND;TZID=America/New_York:20261024T163000
DTSTAMP:20260422T210253
CREATED:20251003T162405Z
LAST-MODIFIED:20260417T200129Z
UID:10001132-1792843200-1792859400@gunstuff.tv
SUMMARY:MRPC @ AGC Steel Challenge
DESCRIPTION:Steel Silhouette Targets
URL:https://gunstuff.tv/event/mrpc-agc-defensive-shooting-9/
LOCATION:AGC Shooting Bays 4\,5\,6
END:VEVENT
BEGIN:VEVENT
DTSTART;TZID=America/New_York:20261129T120000
DTEND;TZID=America/New_York:20261129T163000
DTSTAMP:20260422T210253
CREATED:20251003T162405Z
LAST-MODIFIED:20260417T200130Z
UID:10001133-1795953600-1795969800@gunstuff.tv
SUMMARY:MRPC @ AGC Steel Challenge
DESCRIPTION:Steel Silhouette Targets
URL:https://gunstuff.tv/event/mrpc-agc-defensive-shooting-10/
LOCATION:AGC Shooting Bays 4\,5\,6
END:VEVENT
BEGIN:VEVENT
DTSTART;TZID=America/New_York:20261227T120000
DTEND;TZID=America/New_York:20261227T163000
DTSTAMP:20260422T210253
CREATED:20251003T162405Z
LAST-MODIFIED:20260417T200130Z
UID:10001135-1798372800-1798389000@gunstuff.tv
SUMMARY:MRPC @ AGC Steel Challenge
DESCRIPTION:Steel Solhouette Targets
URL:https://gunstuff.tv/event/mrpc-agc-defensive-shootinh/
LOCATION:AGC Shooting Bays 4\,5\,6
END:VEVENT
END:VCALENDAR