BEGIN:VCALENDAR
VERSION:2.0
PRODID:-//GunStuff TV - ECPv6.15.20//NONSGML v1.0//EN
CALSCALE:GREGORIAN
METHOD:PUBLISH
X-WR-CALNAME:GunStuff TV
X-ORIGINAL-URL:https://gunstuff.tv
X-WR-CALDESC:Events for GunStuff TV
REFRESH-INTERVAL;VALUE=DURATION:PT1H
X-Robots-Tag:noindex
X-PUBLISHED-TTL:PT1H
BEGIN:VTIMEZONE
TZID:America/New_York
BEGIN:DAYLIGHT
TZOFFSETFROM:-0500
TZOFFSETTO:-0400
TZNAME:EDT
DTSTART:20250309T070000
END:DAYLIGHT
BEGIN:STANDARD
TZOFFSETFROM:-0400
TZOFFSETTO:-0500
TZNAME:EST
DTSTART:20251102T060000
END:STANDARD
BEGIN:DAYLIGHT
TZOFFSETFROM:-0500
TZOFFSETTO:-0400
TZNAME:EDT
DTSTART:20260308T070000
END:DAYLIGHT
BEGIN:STANDARD
TZOFFSETFROM:-0400
TZOFFSETTO:-0500
TZNAME:EST
DTSTART:20261101T060000
END:STANDARD
BEGIN:DAYLIGHT
TZOFFSETFROM:-0500
TZOFFSETTO:-0400
TZNAME:EDT
DTSTART:20270314T070000
END:DAYLIGHT
BEGIN:STANDARD
TZOFFSETFROM:-0400
TZOFFSETTO:-0500
TZNAME:EST
DTSTART:20271107T060000
END:STANDARD
END:VTIMEZONE
BEGIN:VEVENT
DTSTART;TZID=America/New_York:20260329T083000
DTEND;TZID=America/New_York:20260329T130000
DTSTAMP:20260422T221457
CREATED:20251003T162405Z
LAST-MODIFIED:20260327T200130Z
UID:10001121-1774773000-1774789200@gunstuff.tv
SUMMARY:MRPC @ AGC Steel Challenge
DESCRIPTION:Steel Silhouette Targets
URL:https://gunstuff.tv/event/mrpc-agc-defensive-shooting-2/
LOCATION:AGC Shooting Bays 4\,5\,6
END:VEVENT
BEGIN:VEVENT
DTSTART;TZID=America/New_York:20260228T120000
DTEND;TZID=America/New_York:20260228T163000
DTSTAMP:20260422T221457
CREATED:20251003T162405Z
LAST-MODIFIED:20260227T193144Z
UID:10001120-1772280000-1772296200@gunstuff.tv
SUMMARY:MRPC @ AGC Steel Challenge
DESCRIPTION:Steel Silhouette Targets
URL:https://gunstuff.tv/event/mrpc-agc-defensive-shooting/
LOCATION:AGC Shooting Bays 4\,5\,6
END:VEVENT
BEGIN:VEVENT
DTSTART;TZID=America/New_York:20260125T120000
DTEND;TZID=America/New_York:20260125T163000
DTSTAMP:20260422T221457
CREATED:20251003T162405Z
LAST-MODIFIED:20260123T191806Z
UID:10001118-1769342400-1769358600@gunstuff.tv
SUMMARY:MRPC at AGC Steel Challenge
DESCRIPTION:Steel Silhouette Targets
URL:https://gunstuff.tv/event/mrpc-at-agc-defensive-shooting/
LOCATION:AGC Shooting Bays 4\,5\,6
END:VEVENT
END:VCALENDAR