BEGIN:VCALENDAR
VERSION:2.0
PRODID:-//GunStuff TV - ECPv6.15.20//NONSGML v1.0//EN
CALSCALE:GREGORIAN
METHOD:PUBLISH
X-WR-CALNAME:GunStuff TV
X-ORIGINAL-URL:https://gunstuff.tv
X-WR-CALDESC:Events for GunStuff TV
REFRESH-INTERVAL;VALUE=DURATION:PT1H
X-Robots-Tag:noindex
X-PUBLISHED-TTL:PT1H
BEGIN:VTIMEZONE
TZID:UTC
BEGIN:STANDARD
TZOFFSETFROM:+0000
TZOFFSETTO:+0000
TZNAME:UTC
DTSTART:20250101T000000
END:STANDARD
END:VTIMEZONE
BEGIN:VEVENT
DTSTART;TZID=UTC:20260411T143000
DTEND;TZID=UTC:20260411T210000
DTSTAMP:20260424T132338
CREATED:20260407T195432Z
LAST-MODIFIED:20260407T195432Z
UID:10007182-1775917800-1775941200@gunstuff.tv
SUMMARY:Heart Mountain 3 Gun
DESCRIPTION:This will be a 3 gun. 22lr and ppc are welcome as well as any level of shooter.\n2 or 3 stages\nStage plans coming soon.\nCost is $10 per shooter\, reshoot\, or shoot in a second class.\nPlease show up 15 min early for check in\, shooters meeting\, and stage brief.\nRegistering helps us get through shooters faster\, but walkins are welcome and we will try to work you in.\nRound count is\n60 rifle\n60 pistol\n40 shotgun 10 slugs\nAny questions call or text (307)250-3328
URL:https://gunstuff.tv/event/heart-mountain-3-gun/
LOCATION:981 rd 5\, Powell WY\, United States
END:VEVENT
END:VCALENDAR