BEGIN:VCALENDAR
VERSION:2.0
PRODID:-//GunStuff TV - ECPv6.15.20//NONSGML v1.0//EN
CALSCALE:GREGORIAN
METHOD:PUBLISH
X-WR-CALNAME:GunStuff TV
X-ORIGINAL-URL:https://gunstuff.tv
X-WR-CALDESC:Events for GunStuff TV
REFRESH-INTERVAL;VALUE=DURATION:PT1H
X-Robots-Tag:noindex
X-PUBLISHED-TTL:PT1H
BEGIN:VTIMEZONE
TZID:UTC
BEGIN:STANDARD
TZOFFSETFROM:+0000
TZOFFSETTO:+0000
TZNAME:UTC
DTSTART:20250101T000000
END:STANDARD
END:VTIMEZONE
BEGIN:VEVENT
DTSTART;TZID=UTC:20260425T150000
DTEND;TZID=UTC:20260425T200000
DTSTAMP:20260424T085533
CREATED:20260421T200315Z
LAST-MODIFIED:20260421T200315Z
UID:10008258-1777129200-1777147200@gunstuff.tv
SUMMARY:Crooked Falls 4/25 USPSA Match
DESCRIPTION:4 Field Courses\, 1 Classifier. Round count TBD\nRegistration/check-in and setup begins at 7:00 AM on Saturday.\nCheck-in closes at 8:00 AM. (Shooters from clubs outside a 2 hour radius\, please check-in no later than 8:30 AM)\nMandatory shooter’s brief at 9:00 AM or setup completion (whichever comes last).\nMatch begins immediately after shooter’s brief.\nMatch ends at approximately 1:30pm\, with teardown immediately after.\nParticipants under the age of 18 must have completed two of our SCSA matches OR show proof of USPSA/SCSA classification AND be accompanied by a parent or legal guardian.\nMatch fee is $25 for preregistered shooters\, $30 for on-site registration.\nREFUND POLICY\nFor those who choose to pay online\, if you withdraw by noon the Friday before the match\, you will be refunded your match fee\, less $1 for online payment fees. If you withdraw after noon on the Friday before the match\, there is no refund of match fees. If a match is cancelled by CFPS\, we will refund your match fee\, less $1 for online payment fees.
URL:https://gunstuff.tv/event/crooked-falls-4-25-uspsa-match-2/
LOCATION:963 Highwood Mountain Lane\, Great Falls\, MT\, United States
GEO:47.511219;-111.2755
END:VEVENT
END:VCALENDAR