BEGIN:VCALENDAR
VERSION:2.0
PRODID:-//GunStuff TV - ECPv6.15.20//NONSGML v1.0//EN
CALSCALE:GREGORIAN
METHOD:PUBLISH
X-ORIGINAL-URL:https://gunstuff.tv
X-WR-CALDESC:Events for GunStuff TV
REFRESH-INTERVAL;VALUE=DURATION:PT1H
X-Robots-Tag:noindex
X-PUBLISHED-TTL:PT1H
BEGIN:VTIMEZONE
TZID:UTC
BEGIN:STANDARD
TZOFFSETFROM:+0000
TZOFFSETTO:+0000
TZNAME:UTC
DTSTART:20250101T000000
END:STANDARD
END:VTIMEZONE
BEGIN:VEVENT
DTSTART;TZID=UTC:20260416T220000
DTEND;TZID=UTC:20260417T000000
DTSTAMP:20260422T140204
CREATED:20260414T200202Z
LAST-MODIFIED:20260414T200202Z
UID:10007579-1776376800-1776384000@gunstuff.tv
SUMMARY:Rochester Brooks RBPS Thursday Practice 4-16
DESCRIPTION:Rochester Brooks RBPS Thursday Practice 4-16\n3 Stages\nNo Classifier\nMatch Director: TBD\nMatch Fee: (Cash at check-in)\n$5 for Brooks Members\n$10 for Non-Members\nAs a reminder\, we will be raffling off $600 at the end of the season to people who help setup and tear down our matches. Please remember to put your name on the sign in sheet at the shed.\nWe start set up at 4pm\, and shoot at 6pm.\nAs always\, beers at the clubhouse afterwards\nPCC Gun Handling\n• PCC can be transported from bay to bay in a case\, or carts and flagged. If in a cart the muzzle is reasonably vertical (pointing down)\, and a chamber flag is in place. A flagged carbine is treated the same as a holstered pistol\, except for sweeping rules.\n• Uncasing the carbine may be done in a safe area\, or against a side berm or backstop.\n• When a competitor is called to the line to shoot\, they may carry an empty\, with chamber flag\, PCC muzzle up or muzzle down\, or the PCC may be cased.\n• After “Hammer down and Flag”\, with an empty with chamber flag PCC\, the competitor can immediately re-case the PCC or carry the PCC as stated above. The PCC can then be carried to a side berm staging area well behind the firing line and placed back in a case or on a cart.
URL:https://gunstuff.tv/event/rochester-brooks-rbps-thursday-practice-4-16/
LOCATION:962 Honeoye Falls 6 Road\, Rush\, NY\, United States
GEO:42.996613;-77.666524
END:VEVENT
BEGIN:VEVENT
DTSTART;TZID=UTC:20260409T220000
DTEND;TZID=UTC:20260410T000000
DTSTAMP:20260422T140204
CREATED:20260407T195411Z
LAST-MODIFIED:20260407T195411Z
UID:10006985-1775772000-1775779200@gunstuff.tv
SUMMARY:Rochester Brooks RBPS Thursday Practice 4-9
DESCRIPTION:Rochester Brooks RBPS Thursday Practice 4-9\n3 Stages\nNo Classifier\nMatch Director: TBD\nMatch Fee: (Cash at check-in)\n$5 for Brooks Members\n$10 for Non-Members\nAs a reminder\, we will be raffling off $600 at the end of the season to people who help setup and tear down our matches. Please remember to put your name on the sign in sheet at the shed.\nWe start set up at 4pm\, and shoot at 6pm.\nAs always\, beers at the clubhouse afterwards\nPCC Gun Handling\n• PCC can be transported from bay to bay in a case\, or carts and flagged. If in a cart the muzzle is reasonably vertical (pointing down)\, and a chamber flag is in place. A flagged carbine is treated the same as a holstered pistol\, except for sweeping rules.\n• Uncasing the carbine may be done in a safe area\, or against a side berm or backstop.\n• When a competitor is called to the line to shoot\, they may carry an empty\, with chamber flag\, PCC muzzle up or muzzle down\, or the PCC may be cased.\n• After “Hammer down and Flag”\, with an empty with chamber flag PCC\, the competitor can immediately re-case the PCC or carry the PCC as stated above. The PCC can then be carried to a side berm staging area well behind the firing line and placed back in a case or on a cart.
URL:https://gunstuff.tv/event/rochester-brooks-rbps-thursday-practice-4-9/
LOCATION:962 Honeoye Falls 6 Road\, Rush\, NY\, United States
GEO:42.996613;-77.666524
END:VEVENT
END:VCALENDAR