BEGIN:VCALENDAR
VERSION:2.0
PRODID:-//GunStuff TV - ECPv6.15.20//NONSGML v1.0//EN
CALSCALE:GREGORIAN
METHOD:PUBLISH
X-WR-CALNAME:GunStuff TV
X-ORIGINAL-URL:https://gunstuff.tv
X-WR-CALDESC:Events for GunStuff TV
REFRESH-INTERVAL;VALUE=DURATION:PT1H
X-Robots-Tag:noindex
X-PUBLISHED-TTL:PT1H
BEGIN:VTIMEZONE
TZID:UTC
BEGIN:STANDARD
TZOFFSETFROM:+0000
TZOFFSETTO:+0000
TZNAME:UTC
DTSTART:20250101T000000
END:STANDARD
END:VTIMEZONE
BEGIN:VEVENT
DTSTART;TZID=UTC:20260418T140000
DTEND;TZID=UTC:20260418T183000
DTSTAMP:20260424T071713
CREATED:20260414T200212Z
LAST-MODIFIED:20260414T200212Z
UID:10007671-1776520800-1776537000@gunstuff.tv
SUMMARY:PGC IDPA April Match
DESCRIPTION:Welcome to the April PGC IDPA match.\nREGISTRATION:\nPlease head to the small classroom for registration UPON ARRIVAL. It helps things move quickly if you register before suiting up or socializing. Bringing exact change is also encouraged and appreciated. All shooters must complete the forms entirely and legibly. Please indicate if you are a Safety Officer or Setup Crew in the payment line. If unsure\, ask for assistance. Do not leave the payment line blank\, even if your match fee is waived. We must report this information to the Club and NRA. Also\, DO NOT sign in or register for anyone else\, unless they are a minor accompanied by a guardian or parent.\nNon-member – $20\nPGC Member – $10\nActive Duty Military – $15\nLadies – $15\n18 and Under – $15\nSafety Officer for Match – Fee Waived\nNon-member Setup Crew – $10\nPGC Member Setup Crew – Fee Waived or $10 and ½ Day Work Credit (Not Both)\nITINERARY:\n8:00 am – Set Up Crew (Hang targets and finish whatever is not finished from Friday)\n8:30 am – Registration Opens\n9:15 am – SO Walkthrough and New Shooters Briefing\n9:30 am – Registration Closes (Strict)\n9:45 am – Shooter Meeting\n10:00 am – First Shots\nSQUADDING INFORMATION:\nWhile we’ll do our best to keep squads together\, there may be last-minute changes to ensure balance and efficiency. I highly recommend signing up early and joining squads with SOs already signed up. Unfortunately\, we cannot always guarantee that you’ll be on your desired squad. Once registration closes and the tablets are synced\, squads cannot be modified.\nIf you have any questions or special requests\, please make them early\, and note that not all requests can be accommodated.\nREMINDERS:\nRemember if you are Military or LEO you can shoot with your duty rig for score at local Tier 1 IDPA matches. If you are not and would like to shoot with a “duty rig” you can always select NFC (Not For Competition) under division.
URL:https://gunstuff.tv/event/pgc-idpa-april-match/
LOCATION:951 Summers Drive\, Ridgeville\, SC\, United States
GEO:33.032573;-80.37462
END:VEVENT
END:VCALENDAR