BEGIN:VCALENDAR
VERSION:2.0
PRODID:-//GunStuff TV - ECPv6.15.20//NONSGML v1.0//EN
CALSCALE:GREGORIAN
METHOD:PUBLISH
X-WR-CALNAME:GunStuff TV
X-ORIGINAL-URL:https://gunstuff.tv
X-WR-CALDESC:Events for GunStuff TV
REFRESH-INTERVAL;VALUE=DURATION:PT1H
X-Robots-Tag:noindex
X-PUBLISHED-TTL:PT1H
BEGIN:VTIMEZONE
TZID:UTC
BEGIN:STANDARD
TZOFFSETFROM:+0000
TZOFFSETTO:+0000
TZNAME:UTC
DTSTART:20250101T000000
END:STANDARD
END:VTIMEZONE
BEGIN:VEVENT
DTSTART;TZID=UTC:20260425T143000
DTEND;TZID=UTC:20260425T220000
DTSTAMP:20260424T055716
CREATED:20260421T200323Z
LAST-MODIFIED:20260421T200323Z
UID:10008319-1777127400-1777154400@gunstuff.tv
SUMMARY:Socal Long Range Club - SAN DIEGO - PRS Regional Match - Apr 25th
DESCRIPTION:PRS Match – 8 stages — out to 1200 yds.\nFun match that is challenging for existing shooters and welcoming to new shooters.  We have a “Skills” category that allows new shooters to shoot a more manageable course of fire and get coaching while shooting a stage\, but won’t count for points in the national series rankings.\nNo steel core or copper solid bullets.  .308 max caliber\, no 300 Win Mag\, etc.  (Email me if you have a question about your caliber)\n$60 match fee\n$20 discount for MIL/LE & 1st Time match shooters\n  (email socallongrangeclub@gmail.com with any questions)\nNo 2nd rifle in a PRS Regional sanctioned event.\nSchedule:\n7:00 – Gate opens\n7:30 – Check-in starts\n7:45 – Safety Brief\n8:00 – Zero Period\n8:15 – Match starts
URL:https://gunstuff.tv/event/socal-long-range-club-san-diego-prs-regional-match-apr-25th/
LOCATION:9461 CA-76\, Pala California\, United States
END:VEVENT
END:VCALENDAR