BEGIN:VCALENDAR
VERSION:2.0
PRODID:-//GunStuff TV - ECPv6.15.20//NONSGML v1.0//EN
CALSCALE:GREGORIAN
METHOD:PUBLISH
X-WR-CALNAME:GunStuff TV
X-ORIGINAL-URL:https://gunstuff.tv
X-WR-CALDESC:Events for GunStuff TV
REFRESH-INTERVAL;VALUE=DURATION:PT1H
X-Robots-Tag:noindex
X-PUBLISHED-TTL:PT1H
BEGIN:VTIMEZONE
TZID:UTC
BEGIN:STANDARD
TZOFFSETFROM:+0000
TZOFFSETTO:+0000
TZNAME:UTC
DTSTART:20250101T000000
END:STANDARD
END:VTIMEZONE
BEGIN:VEVENT
DTSTART;TZID=UTC:20260418T123000
DTEND;TZID=UTC:20260418T193000
DTSTAMP:20260424T074035
CREATED:20260414T200232Z
LAST-MODIFIED:20260414T200232Z
UID:10007845-1776515400-1776540600@gunstuff.tv
SUMMARY:2026 PRS Rimfire Series\, 4-18-26
DESCRIPTION:2026 PRS Rimfire Series matches held at ICBGC are on a square range\, offering steel targets from 25 out to 305 yards. We typically have 9 or 10 stages from a covered firing line with a mix of both positional and long-range stages. Using all of the regular props and barricades see in the PRS sport. It is a cold range\, we require ECI to be in the rifle\, when not in use. The matches will count for 2026 PRS Rimfire Series points\, you do not need to be members in order to attend. ICBGC is also a dry range\, and no alcohol is to be consumed on the property.\nPlease see the attached waiver to be filled out once annually.\n9374 Old Rte 56\, Shelocta\, PA 15774\n-8:00 Gate Opens\n-8:15 Zero Period\n-9:15 Safety brief\n-9:30 Match Start
URL:https://gunstuff.tv/event/2026-prs-rimfire-series-4-18-26/
LOCATION:9374 Old Route 56\, Shelocta\, PA\, USA\, Shelocta pa\, United States
END:VEVENT
END:VCALENDAR