BEGIN:VCALENDAR
VERSION:2.0
PRODID:-//GunStuff TV - ECPv6.15.20//NONSGML v1.0//EN
CALSCALE:GREGORIAN
METHOD:PUBLISH
X-WR-CALNAME:GunStuff TV
X-ORIGINAL-URL:https://gunstuff.tv
X-WR-CALDESC:Events for GunStuff TV
REFRESH-INTERVAL;VALUE=DURATION:PT1H
X-Robots-Tag:noindex
X-PUBLISHED-TTL:PT1H
BEGIN:VTIMEZONE
TZID:UTC
BEGIN:STANDARD
TZOFFSETFROM:+0000
TZOFFSETTO:+0000
TZNAME:UTC
DTSTART:20250101T000000
END:STANDARD
END:VTIMEZONE
BEGIN:VEVENT
DTSTART;TZID=UTC:20260418T140000
DTEND;TZID=UTC:20260418T180000
DTSTAMP:20260424T073741
CREATED:20260414T200221Z
LAST-MODIFIED:20260414T200221Z
UID:10007741-1776520800-1776535200@gunstuff.tv
SUMMARY:PFG April 2026 Steel Match
DESCRIPTION:This is a Tier 1 local club match consisting of 6 official steel challenge stages each month. Minimum round count is 150 but bring 200-250 rounds per gun. Come out and shoot one or two guns.\n$15 first gun and $10 second gun\nLimit two (2) divisions per shooter.\nMatch opens for registration on April 1st at 8:00 am.\nMatch day:\n9:00-9:30 am Registration – Please be on TIME!\n9:30 am: New Shooter Meeting\n9:45am: Safety Briefing\n10:00am: Hammer Down\nShooters and spectators will require eye and ear protection when on the range.\nOur range is a cold range! If you arrive with a loaded carry gun\, please contact a range officer for instruction to safe firearm.\nGuns must remain holstered or cased except when under direction of RO on the firing line or in a safe handling area. For Pistol Caliber Carbines and .22 Rimfire Rifles an empty chamber indicator (ECI) or safety flag is required as well as a case for transport. Prior to the match all guns must be cleared.\nSteel Challenge Rules can be found here:\nhttps://steelchallenge.com/steel-challenge-Rules-Home.php
URL:https://gunstuff.tv/event/pfg-april-2026-steel-match/
LOCATION:9344 Spiker Rd\, Piqua OH\, United States
END:VEVENT
END:VCALENDAR