BEGIN:VCALENDAR
VERSION:2.0
PRODID:-//GunStuff TV - ECPv6.15.20//NONSGML v1.0//EN
CALSCALE:GREGORIAN
METHOD:PUBLISH
X-ORIGINAL-URL:https://gunstuff.tv
X-WR-CALDESC:Events for GunStuff TV
REFRESH-INTERVAL;VALUE=DURATION:PT1H
X-Robots-Tag:noindex
X-PUBLISHED-TTL:PT1H
BEGIN:VTIMEZONE
TZID:UTC
BEGIN:STANDARD
TZOFFSETFROM:+0000
TZOFFSETTO:+0000
TZNAME:UTC
DTSTART:20250101T000000
END:STANDARD
END:VTIMEZONE
BEGIN:VEVENT
DTSTART;TZID=UTC:20260411T140000
DTEND;TZID=UTC:20260411T200000
DTSTAMP:20260424T104705
CREATED:20260407T195430Z
LAST-MODIFIED:20260407T195430Z
UID:10007170-1775916000-1775937600@gunstuff.tv
SUMMARY:NPCCCC Outlaw Steel April 11th 2026
DESCRIPTION:Outlaw Steel match with ***6 Stages and 4 Strings per stage***\nThe gates close at 8:30.\nYou do not need to be a NPCCC member to shoot this match\n****Please come prepaired with ammo and magazines for 6 stages and 4 strings****\n$20 for Non member and second gun $5\n$15 for members and second gun $5\n3 guns per person max\nThird gun will be an additional  $5\nUnder 18 and women will get one free gun\nPlease register three times for 3 guns\n*******6 stages with 4 strings******
URL:https://gunstuff.tv/event/npcccc-outlaw-steel-april-11th-2026/
LOCATION:927 N Calumet Ave\, Chesterton Indiana\, United States
END:VEVENT
END:VCALENDAR