BEGIN:VCALENDAR
VERSION:2.0
PRODID:-//GunStuff TV - ECPv6.15.20//NONSGML v1.0//EN
CALSCALE:GREGORIAN
METHOD:PUBLISH
X-ORIGINAL-URL:https://gunstuff.tv
X-WR-CALDESC:Events for GunStuff TV
REFRESH-INTERVAL;VALUE=DURATION:PT1H
X-Robots-Tag:noindex
X-PUBLISHED-TTL:PT1H
BEGIN:VTIMEZONE
TZID:UTC
BEGIN:STANDARD
TZOFFSETFROM:+0000
TZOFFSETTO:+0000
TZNAME:UTC
DTSTART:20250101T000000
END:STANDARD
END:VTIMEZONE
BEGIN:VEVENT
DTSTART;TZID=UTC:20260426T160000
DTEND;TZID=UTC:20260426T210000
DTSTAMP:20260421T172854
CREATED:20260421T200351Z
LAST-MODIFIED:20260421T200351Z
UID:10008569-1777219200-1777237200@gunstuff.tv
SUMMARY:Redmond 3-gun
DESCRIPTION:The Redmond 3 Gun Match at Redmond Rod & Gun Club is a fast paced\, super-fun\, dynamic shooting event designed for shooters who want realistic\, challenging\, and engaging competition. This monthly match combines pistol\, shotgun\, and pistol caliber carbine into thoughtfully designed stages that emphasize movement\, reloads\, and problem solving under pressure.\n    Competitors can expect a high energy experience that mirrors practical shooting scenarios\, encouraging performance with an elevated heart rate while maintaining strict safety standards. Stages feature a mix of paper and steel targets\, reactive elements\, and shooting on the move\, all scored using a time plus penalties format.\n   The match is held on the 4th Sunday of each month in the Action Pistol Bays. Each competitor will shoot four stages\, ensuring a full and satisfying day on the range.\nRound Count: Plan on needing a max of 75 rounds of pistol\, 75 rounds for a pistol caliber carbine\, 35 rounds of bird shot\, and 2 slugs. 5 rounds of buck shot (optional). If you do not have slugs or buck\, do not let that keep you from attending.\n$15 members\, $25 non-members
URL:https://gunstuff.tv/event/redmond-3-gun/
LOCATION:9020 S Hwy 97\, Redmond OR\, United States
END:VEVENT
END:VCALENDAR