BEGIN:VCALENDAR
VERSION:2.0
PRODID:-//GunStuff TV - ECPv6.15.20//NONSGML v1.0//EN
CALSCALE:GREGORIAN
METHOD:PUBLISH
X-ORIGINAL-URL:https://gunstuff.tv
X-WR-CALDESC:Events for GunStuff TV
REFRESH-INTERVAL;VALUE=DURATION:PT1H
X-Robots-Tag:noindex
X-PUBLISHED-TTL:PT1H
BEGIN:VTIMEZONE
TZID:UTC
BEGIN:STANDARD
TZOFFSETFROM:+0000
TZOFFSETTO:+0000
TZNAME:UTC
DTSTART:20250101T000000
END:STANDARD
END:VTIMEZONE
BEGIN:VEVENT
DTSTART;TZID=UTC:20260409T230000
DTEND;TZID=UTC:20260410T010000
DTSTAMP:20260424T083609
CREATED:20260407T195413Z
LAST-MODIFIED:20260407T195413Z
UID:10007008-1775775600-1775782800@gunstuff.tv
SUMMARY:2nd Thursday Pistol Match - Cuero Sportsman Club April 9\, 2026
DESCRIPTION:We welcome both new and experienced competitors; it is expected that you are already very familiar with firearm safety rules\, you can safely draw\, holster\, and reload your firearm\, you can move safely with a loaded firearm in your hand with good finger discipline\, and shoot with reasonable accuracy.\nThis is a self-defense style pistol match with  +/- 3 stages.  Cuero Sportsman Club is a Cold Range – no loaded firearms outside your vehicle. Law Enforcement Officers shoot at half-price.
URL:https://gunstuff.tv/event/2nd-thursday-pistol-match-cuero-sportsman-club-april-9-2026/
LOCATION:902 E. Bailey\, Cuero\, TX\, United States
GEO:29.093677;-97.260776
END:VEVENT
END:VCALENDAR