BEGIN:VCALENDAR
VERSION:2.0
PRODID:-//GunStuff TV - ECPv6.15.20//NONSGML v1.0//EN
CALSCALE:GREGORIAN
METHOD:PUBLISH
X-ORIGINAL-URL:https://gunstuff.tv
X-WR-CALDESC:Events for GunStuff TV
REFRESH-INTERVAL;VALUE=DURATION:PT1H
X-Robots-Tag:noindex
X-PUBLISHED-TTL:PT1H
BEGIN:VTIMEZONE
TZID:UTC
BEGIN:STANDARD
TZOFFSETFROM:+0000
TZOFFSETTO:+0000
TZNAME:UTC
DTSTART:20250101T000000
END:STANDARD
END:VTIMEZONE
BEGIN:VEVENT
DTSTART;TZID=UTC:20260425T160000
DTEND;TZID=UTC:20260425T200000
DTSTAMP:20260424T090146
CREATED:20260421T200334Z
LAST-MODIFIED:20260421T200334Z
UID:10008421-1777132800-1777147200@gunstuff.tv
SUMMARY:Brazosland Pistoleros Steel Challenge - Saturday April 25th
DESCRIPTION:Come join us for our monthly 4th Saturday Steel Challenge. We will run 6 Official Stages.\nSetup will start at 8:00 am\, registration at 8:15-8:45 am\, shooter meeting at 8:45am\, and hammer down at 9:00 am.\nThe $30 match fee is paid online. Walk-ons may pay $30 with exact change but will be squadded at the discretion of the match director. We encourage shooters to shoot multiple divisions. 2nd division entries will be $10\, just enter a 2nd time on Practiscore and check the box for the discount (must pay full price at least once). We’ll issue refunds (minus a $5 admin fee) for anyone that notifies us they can’t make it by 8 AM Friday.\nWe also have a loaner JP Enterprises JP-5 (9mm) and JP-22 (22 LR) available for any shooter to run at the match\, just provide your own Factory Federal Ammo! PCC is a great way to get new shooter friends and family excited about action shooting! Please arrange loaner rifles in advance and message the club on Facebook for more details.\nQuestions?\nbrazoslandpistoleros@gmail.com\nhttps://www.facebook.com/brazoslandpistoleros/\nUpdates to date match information will be posted on Facebook:\nhttps://www.facebook.com/brazoslandpistoleros/?fref=ts\nResults will be submitted to the SCSA as classifiers. If you’re a member please remember to put your member number on the registration form.\nRound Count (minimum):\n150 rounds\, but bring more\nMatch Fee: $30 First Entry\, $10 Per Additional Entry\nDirections to Range:\nhttps://www.dropbox.com/s/uma15b5g6ziilcy/CCC_RangeDrivingDirections.pdf?dl=0\n30°25’26.3″N 96°14’24.6″W\nUse Google maps. Apple maps does not take you to the correct place.
URL:https://gunstuff.tv/event/brazosland-pistoleros-steel-challenge-saturday-april-25th/
LOCATION:9010 Bob Moore Road\, Navasota TX\, United States
END:VEVENT
END:VCALENDAR