BEGIN:VCALENDAR
VERSION:2.0
PRODID:-//GunStuff TV - ECPv6.15.20//NONSGML v1.0//EN
CALSCALE:GREGORIAN
METHOD:PUBLISH
X-ORIGINAL-URL:https://gunstuff.tv
X-WR-CALDESC:Events for GunStuff TV
REFRESH-INTERVAL;VALUE=DURATION:PT1H
X-Robots-Tag:noindex
X-PUBLISHED-TTL:PT1H
BEGIN:VTIMEZONE
TZID:UTC
BEGIN:STANDARD
TZOFFSETFROM:+0000
TZOFFSETTO:+0000
TZNAME:UTC
DTSTART:20250101T000000
END:STANDARD
END:VTIMEZONE
BEGIN:VEVENT
DTSTART;TZID=UTC:20260418T130000
DTEND;TZID=UTC:20260418T170000
DTSTAMP:20260424T073948
CREATED:20260414T200227Z
LAST-MODIFIED:20260414T200227Z
UID:10007802-1776517200-1776531600@gunstuff.tv
SUMMARY:April 18th Pioneer .22lr 2 Gun Outdoor match
DESCRIPTION:This is a .22lr Only 2 gun match using USPSA ruleset and Hit Factor scoring.    We will setup one stage and shoot it multiple times and as interest builds we will add stages.\nThere are only 2 divisions (Limited and Open)\, the only difference is pistol magazine capacity.   Limited is 10 rounds in your pistol\, while Open is unlimited  (think Taurus TX 22).  Optic\, comps\, mag wells are all good to go.\nThere is no difference for rifles\, they can be any capacity\, any configuration.\nSuppressors are a no go since there is not enough sound to trigger the timer.
URL:https://gunstuff.tv/event/april-18th-pioneer-22lr-2-gun-outdoor-match/
LOCATION:900 Northwest 1571st Road\, Holden MO\, United States
END:VEVENT
END:VCALENDAR