BEGIN:VCALENDAR
VERSION:2.0
PRODID:-//GunStuff TV - ECPv6.15.20//NONSGML v1.0//EN
CALSCALE:GREGORIAN
METHOD:PUBLISH
X-WR-CALNAME:GunStuff TV
X-ORIGINAL-URL:https://gunstuff.tv
X-WR-CALDESC:Events for GunStuff TV
REFRESH-INTERVAL;VALUE=DURATION:PT1H
X-Robots-Tag:noindex
X-PUBLISHED-TTL:PT1H
BEGIN:VTIMEZONE
TZID:UTC
BEGIN:STANDARD
TZOFFSETFROM:+0000
TZOFFSETTO:+0000
TZNAME:UTC
DTSTART:20250101T000000
END:STANDARD
END:VTIMEZONE
BEGIN:VEVENT
DTSTART;TZID=UTC:20260423T210000
DTEND;TZID=UTC:20260423T230000
DTSTAMP:20260422T124128
CREATED:20260421T200312Z
LAST-MODIFIED:20260421T200312Z
UID:10008226-1776978000-1776985200@gunstuff.tv
SUMMARY:SRG DPP Thursday 2026-04-23
DESCRIPTION:A Defensive Practical Pistol match using IDPA targets and rules.\nRegistration begins at 4:30 PM\, Shooter’s briefing at 4:45 PM with first shots at 5:00 PM.\nNote: Due to the state of Connecticut’s restriction on the purchase of “large capacity magazines\,” no magazine will be allowed hold more than 10 rounds after the start signal.
URL:https://gunstuff.tv/event/srg-dpp-thursday-2026-04-23/
LOCATION:90 Bushnell Hollow Road\, Baltic\, CT\, United States
GEO:41.61704;-72.08452
END:VEVENT
END:VCALENDAR