BEGIN:VCALENDAR
VERSION:2.0
PRODID:-//GunStuff TV - ECPv6.15.20//NONSGML v1.0//EN
CALSCALE:GREGORIAN
METHOD:PUBLISH
X-ORIGINAL-URL:https://gunstuff.tv
X-WR-CALDESC:Events for GunStuff TV
REFRESH-INTERVAL;VALUE=DURATION:PT1H
X-Robots-Tag:noindex
X-PUBLISHED-TTL:PT1H
BEGIN:VTIMEZONE
TZID:UTC
BEGIN:STANDARD
TZOFFSETFROM:+0000
TZOFFSETTO:+0000
TZNAME:UTC
DTSTART:20250101T000000
END:STANDARD
END:VTIMEZONE
BEGIN:VEVENT
DTSTART;TZID=UTC:20260418T130000
DTEND;TZID=UTC:20260418T220000
DTSTAMP:20260424T073948
CREATED:20260414T200226Z
LAST-MODIFIED:20260414T200226Z
UID:10007789-1776517200-1776549600@gunstuff.tv
SUMMARY:TPP 2026 Spring Match
DESCRIPTION:6 stages at distances up to 300 yards.\nLots of physical movement and shooting under duress.\nApproximate minimum round count to be communicated prior to the event. NO STEEL or BI-METAL TIPPED AMMUNITION including Wolf WPA PolyFormance and Military Classic Steel Case.\nCome zeroed and ready to shoot.\nCost is $50 for participants. Pay onsite\, please have exact change.\nWhat to bring\n• Rifle – Reliable\, semi-auto carbine or other rifle with “tactical” 1 or 2-pt sling\n– 2-4 carbine/rifle mags\, carbine mag pouch optional\n– Chamber flag for rifle\n– Bags & bipods are permitted\n• Pistol\n– Holster – capable of safely retaining pistol while moving vigorously; no soft sided holsters\n– Suitable belt for securing your holstered pistol\n– Pistol mag pouches optional\n• Hearing protection (electronic recommended) & eye protection\n• Come prepared/dressed for the weather; we will shoot rain or shine\n• Snack & drinks – we do not have any onsite options and we will not stop for lunch\nSchedule\n• Set up starts at 6:00 AM\n• Gate open 8:00 AM – will be open earlier based on volunteer availability.\n• Check in starts at 8:15 AM\n• Safety briefing at 8:45 AM: all shooters must attend in order to participate. If you are not present for the safety briefing you will not be allowed to shoot.\n• Shooting to commence at 9:00 AM and will run until all stages are complete.\nComms\n• Join us on FaceBook at https://www.facebook.com/groups/1716659758578694/\n• Contact Randy at r.honeycutt@comcast.net for more information.
URL:https://gunstuff.tv/event/tpp-2026-spring-match/
LOCATION:8922 Rifle Range Road\, Racine WI\, United States
END:VEVENT
END:VCALENDAR