BEGIN:VCALENDAR
VERSION:2.0
PRODID:-//GunStuff TV - ECPv6.15.20//NONSGML v1.0//EN
CALSCALE:GREGORIAN
METHOD:PUBLISH
X-WR-CALNAME:GunStuff TV
X-ORIGINAL-URL:https://gunstuff.tv
X-WR-CALDESC:Events for GunStuff TV
REFRESH-INTERVAL;VALUE=DURATION:PT1H
X-Robots-Tag:noindex
X-PUBLISHED-TTL:PT1H
BEGIN:VTIMEZONE
TZID:UTC
BEGIN:STANDARD
TZOFFSETFROM:+0000
TZOFFSETTO:+0000
TZNAME:UTC
DTSTART:20250101T000000
END:STANDARD
END:VTIMEZONE
BEGIN:VEVENT
DTSTART;TZID=UTC:20260411T130000
DTEND;TZID=UTC:20260411T150000
DTSTAMP:20260424T121416
CREATED:20260407T195419Z
LAST-MODIFIED:20260407T195419Z
UID:10007054-1775912400-1775919600@gunstuff.tv
SUMMARY:IDPA Omaha April 2026
DESCRIPTION:Tier 1 IDPA match with two stages at Inner 10 Weapons & Training.\nMatch setup is at 7:00 AM. The match begins at 8:00 AM.
URL:https://gunstuff.tv/event/idpa-omaha-april-2026/
LOCATION:8910 Military Rd\, Omaha\, NE\, United States
GEO:41.291736;-96.171104
END:VEVENT
END:VCALENDAR