BEGIN:VCALENDAR
VERSION:2.0
PRODID:-//GunStuff TV - ECPv6.15.20//NONSGML v1.0//EN
CALSCALE:GREGORIAN
METHOD:PUBLISH
X-WR-CALNAME:GunStuff TV
X-ORIGINAL-URL:https://gunstuff.tv
X-WR-CALDESC:Events for GunStuff TV
REFRESH-INTERVAL;VALUE=DURATION:PT1H
X-Robots-Tag:noindex
X-PUBLISHED-TTL:PT1H
BEGIN:VTIMEZONE
TZID:UTC
BEGIN:STANDARD
TZOFFSETFROM:+0000
TZOFFSETTO:+0000
TZNAME:UTC
DTSTART:20250101T000000
END:STANDARD
END:VTIMEZONE
BEGIN:VEVENT
DTSTART;TZID=UTC:20260418T130000
DTEND;TZID=UTC:20260418T170000
DTSTAMP:20260424T073948
CREATED:20260414T200224Z
LAST-MODIFIED:20260414T200224Z
UID:10007771-1776517200-1776531600@gunstuff.tv
SUMMARY:Lakeland LDPC IDPA  4-18-2026
DESCRIPTION:Club match with seven excellent stages. **No Sig Sauer P320 of any variant will be allowed until further notice at any LDPC IDPA match per national IDPA policy**\nNo group announcements\, please be on your bay and ready for first shots no later than 9:00 am.\nNew shooters to our range or new to IDPA meet at 8:30 am in Bay 1\nThere is no water onsite so PLEASE PLEASE bring plenty of water and snacks for yourself.\nWhen finished\, everyone please help break down and put away the stages.\nREFUNDS: Refunds will be provided less $5 credit card processing fee. No refunds less than 24 hours before match start time.
URL:https://gunstuff.tv/event/lakeland-ldpc-idpa-4-18-2026/
LOCATION:870 Old Bowling Green Road\, Fort Meade FL\, United States
END:VEVENT
END:VCALENDAR