BEGIN:VCALENDAR
VERSION:2.0
PRODID:-//GunStuff TV - ECPv6.15.20//NONSGML v1.0//EN
CALSCALE:GREGORIAN
METHOD:PUBLISH
X-ORIGINAL-URL:https://gunstuff.tv
X-WR-CALDESC:Events for GunStuff TV
REFRESH-INTERVAL;VALUE=DURATION:PT1H
X-Robots-Tag:noindex
X-PUBLISHED-TTL:PT1H
BEGIN:VTIMEZONE
TZID:UTC
BEGIN:STANDARD
TZOFFSETFROM:+0000
TZOFFSETTO:+0000
TZNAME:UTC
DTSTART:20250101T000000
END:STANDARD
END:VTIMEZONE
BEGIN:VEVENT
DTSTART;TZID=UTC:20260418T133000
DTEND;TZID=UTC:20260418T180000
DTSTAMP:20260424T071822
CREATED:20260414T200212Z
LAST-MODIFIED:20260414T200212Z
UID:10007670-1776519000-1776535200@gunstuff.tv
SUMMARY:ARPC NRL22 April 2026 Match
DESCRIPTION:Match Details:\n*We have a soft cap at 24 shooters\, if we have enough interest we will open up more spots.*\n – COF will consist of the 5 NRL22 monthly stages and 1 bonus stage\n – Target distances will not exceed 300 yards\n – Round count will not exceed 100 rounds\n – Zeroing targets will be placed at 50 yards and 100 yards\n – Be sure to bring: safety glasses\, hearing protection\, and empty chamber indicator\n – 200 & 300 yard DOPE is required to shoot out to longer yardages\, if you do not have long range DOPE we will\n    ask you not to shoot the stage for safety reasons.\nMatch Schedule:\n7:30am ~ 8:30am – Stage Setup\n8:00am – 9:15am – Registration\n8:30am – 9:15am – Zero Open (Do NOT shoot before 8:30am per ARPC Bylaws)\n9:15am – 9:30am – Safety Brief\n9:30am – 1:00pm – Scheduled Match Time\nMatch Fee:\nARPC Member: $5\nNon-Members: $15\nYoung Guns: $5
URL:https://gunstuff.tv/event/arpc-nrl22-april-2026-match/
LOCATION:8343 Metropolitan BLVD\, Barnhart\, MO\, United States
GEO:38.334232;-90.453027
END:VEVENT
END:VCALENDAR