BEGIN:VCALENDAR
VERSION:2.0
PRODID:-//GunStuff TV - ECPv6.15.20//NONSGML v1.0//EN
CALSCALE:GREGORIAN
METHOD:PUBLISH
X-WR-CALNAME:GunStuff TV
X-ORIGINAL-URL:https://gunstuff.tv
X-WR-CALDESC:Events for GunStuff TV
REFRESH-INTERVAL;VALUE=DURATION:PT1H
X-Robots-Tag:noindex
X-PUBLISHED-TTL:PT1H
BEGIN:VTIMEZONE
TZID:UTC
BEGIN:STANDARD
TZOFFSETFROM:+0000
TZOFFSETTO:+0000
TZNAME:UTC
DTSTART:20250101T000000
END:STANDARD
END:VTIMEZONE
BEGIN:VEVENT
DTSTART;TZID=UTC:20260425T140000
DTEND;TZID=UTC:20260425T220000
DTSTAMP:20260421T172256
CREATED:20260421T200343Z
LAST-MODIFIED:20260421T200343Z
UID:10008500-1777125600-1777154400@gunstuff.tv
SUMMARY:Smoke and Hope Shooters Roundup April 25\, 2026 USPSA
DESCRIPTION:Spring Hours\nCheck-in starts at 8:00 amand closes at 8:30 am this will allow for syncing of the scoring devices. We will begin shooting at 9:00 am.\nIf this is your first match\, please check in before getting your gear out\, we will have someone help you follow our cold range rules. Also as a thank you for trying out USPSA shooting sports for the first time\, your match is on us.\nWe look forward to seeing you!\n6 Stages\, $20\nJuniors always FREE!\n1st Time Competitior FREE
URL:https://gunstuff.tv/event/smoke-and-hope-shooters-roundup-april-25-2026-uspsa/
LOCATION:83 Golf Course Road\, Roundup MT\, United States
END:VEVENT
END:VCALENDAR