BEGIN:VCALENDAR
VERSION:2.0
PRODID:-//GunStuff TV - ECPv6.15.20//NONSGML v1.0//EN
CALSCALE:GREGORIAN
METHOD:PUBLISH
X-ORIGINAL-URL:https://gunstuff.tv
X-WR-CALDESC:Events for GunStuff TV
REFRESH-INTERVAL;VALUE=DURATION:PT1H
X-Robots-Tag:noindex
X-PUBLISHED-TTL:PT1H
BEGIN:VTIMEZONE
TZID:UTC
BEGIN:STANDARD
TZOFFSETFROM:+0000
TZOFFSETTO:+0000
TZNAME:UTC
DTSTART:20250101T000000
END:STANDARD
END:VTIMEZONE
BEGIN:VEVENT
DTSTART;TZID=UTC:20260425T140000
DTEND;TZID=UTC:20260425T190000
DTSTAMP:20260424T090325
CREATED:20260421T200333Z
LAST-MODIFIED:20260421T200333Z
UID:10008410-1777125600-1777143600@gunstuff.tv
SUMMARY:ESPS USPSA - April 25 2026
DESCRIPTION:Level 1 USPSA Match\nSquadding will be on a first come – first served basis.  Upon registration you will automatically be waitlisted.  We will manually approve shooters to squad\, with priority going to local Match Directors\, DSA members\, and then registration order\, up to an initial limit of 75 shooters.  The next 15 waitlisted shooters will be put on an Overflow Squad 6.   If shooters withdraw from the match\, the corresponding number of shooters will be moved from the Overflow Squad to the vacated slots in Squads 1-5\, and waitlisted shooters moved to fill the empty slots in the Overflow Squad.  If your name is on the Overflow Squad when registration closes the day before the match\, you are definitely approved to shoot the match – you just won’t be able to pick a squad – we will assign one to you if/when you show up to the match.\nCheck-in for the match opens at 9:00AM in the clubhouse and closes at 9:45AM .. please come on time.\nMatch registration fee payment is cash only ($20).\nNew shooter briefing is at 9:30AM at pistol bay 2 (the center pistol bay).\nMatch briefing is at 9:45AM in front of the pistol bays.
URL:https://gunstuff.tv/event/esps-uspsa-april-25-2026/
LOCATION:816 Sudlersville Cemetary Road\, Sudlersville Maryland\, United States
END:VEVENT
END:VCALENDAR