BEGIN:VCALENDAR
VERSION:2.0
PRODID:-//GunStuff TV - ECPv6.15.20//NONSGML v1.0//EN
CALSCALE:GREGORIAN
METHOD:PUBLISH
X-WR-CALNAME:GunStuff TV
X-ORIGINAL-URL:https://gunstuff.tv
X-WR-CALDESC:Events for GunStuff TV
REFRESH-INTERVAL;VALUE=DURATION:PT1H
X-Robots-Tag:noindex
X-PUBLISHED-TTL:PT1H
BEGIN:VTIMEZONE
TZID:UTC
BEGIN:STANDARD
TZOFFSETFROM:+0000
TZOFFSETTO:+0000
TZNAME:UTC
DTSTART:20250101T000000
END:STANDARD
END:VTIMEZONE
BEGIN:VEVENT
DTSTART;TZID=UTC:20260425T120000
DTEND;TZID=UTC:20260425T210000
DTSTAMP:20260421T184947
CREATED:20260421T200335Z
LAST-MODIFIED:20260421T200335Z
UID:10008434-1777118400-1777150800@gunstuff.tv
SUMMARY:Ontelaunee USPSA April 25 2026 SET UP DAY
DESCRIPTION:This registration page is for Saturday SET UP.  Please arrive at 8:00 am to begin set up. We will shoot the match once set up is complete.\nMake sure you are registering for the correct day. Sundays match has a separate registration page.\nThis is a level 1 USPSA match with 10 stages including 2 classifiers. Round count TBD\nPlease arrive on time to check in to guarantee your spot. You must be registered and approved to shoot. We do not accept walk ins.
URL:https://gunstuff.tv/event/ontelaunee-uspsa-april-25-2026-set-up-day/
LOCATION:8100 Gun Club Rd.\, New Tripoli PA\, United States
END:VEVENT
BEGIN:VEVENT
DTSTART;TZID=UTC:20260426T120000
DTEND;TZID=UTC:20260426T210000
DTSTAMP:20260421T184947
CREATED:20260421T200347Z
LAST-MODIFIED:20260421T200347Z
UID:10008539-1777204800-1777237200@gunstuff.tv
SUMMARY:Ontelaunee USPSA April 26 2026
DESCRIPTION:This is a level 1 USPSA match with 10 stages including 2 classifiers. Round count TBD\nCheck in:  8:00-8:30\nNew Shooter Brief:  8:30\nMatch Brief: 8:45\nHammer Down: 9:00\nPlease arrive on time to check in to guarantee your spot. You must be registered and approved to shoot. We do not accept walk ins.
URL:https://gunstuff.tv/event/ontelaunee-uspsa-april-26-2026/
LOCATION:8100 Gun Club Rd.\, New Tripoli PA\, United States
END:VEVENT
END:VCALENDAR