BEGIN:VCALENDAR
VERSION:2.0
PRODID:-//GunStuff TV - ECPv6.15.20//NONSGML v1.0//EN
CALSCALE:GREGORIAN
METHOD:PUBLISH
X-WR-CALNAME:GunStuff TV
X-ORIGINAL-URL:https://gunstuff.tv
X-WR-CALDESC:Events for GunStuff TV
REFRESH-INTERVAL;VALUE=DURATION:PT1H
X-Robots-Tag:noindex
X-PUBLISHED-TTL:PT1H
BEGIN:VTIMEZONE
TZID:UTC
BEGIN:STANDARD
TZOFFSETFROM:+0000
TZOFFSETTO:+0000
TZNAME:UTC
DTSTART:20250101T000000
END:STANDARD
END:VTIMEZONE
BEGIN:VEVENT
DTSTART;TZID=UTC:20260418T130000
DTEND;TZID=UTC:20260418T180000
DTSTAMP:20260424T073907
CREATED:20260414T200220Z
LAST-MODIFIED:20260414T200220Z
UID:10007736-1776517200-1776535200@gunstuff.tv
SUMMARY:Bandera Steel Challenge 2026-04-18
DESCRIPTION:Online payment now accepted!\nIf shooting 2 guns\,  put each division after your last name (I.e. Reedy CO\, Reedy RFPO)\nWe will shoot 6 official classifier stages.  I will upload results to SCSA.\n* Setup @ 7:30\, Signup @ 8\, New Shooter’s meeting @ 8:40\, Start @9:00\n* Check in at Bay 3\, even if you paid online.\n* First-timers need to attend the “New Shooters’ Meeting” held in Bay 2 about 20 minutes before the match starts.\n* We will shoot 4 stages and after a quick reconfiguration\, shoot the other 2 stages.\nGear:\n* Pistols:  Non-collapsing belt holster positioned on or in front of your hips. (No small of back\, or cross-draw allowed).\n* Enough magazines to hold 30 rounds\n* ~200 rounds of ammunition (It’s 150 if you don’t miss)\n* Eye and ear protection.\nPrices:\n* General Public.                        – $30\n* Bandera Gun Club Member     -$20\n* Active Duty LEO or MIL	        – $20\n* 2nd Gun	(2 registrations)	– $10\nSafety:\nAll guns stay in the holster (or bag/box) AT ALL TIMES\, except:\n	1.  At a safety table\, where you may not handle ammo\, or\n	2.  In a bay under the supervision of a Safety Officer\, when it is your turn to shoot the stage.\nThe above applies to all firearms at all times.\nPlease flag and bag or cart your rifles in between stages.\nRimfire handguns start from low ready.  No need for a holster.\nArrival:\n* If you arrive carrying your loaded defensive handgun\, you may use the Load/Unload table in Bays 2 or 3 before and after the match to switch to match gear.\n* If you arrive with the gun in a case or bag\, bring it in the case/bag to the table and holster up\, then leave it there until it’s your turn to run the stage.\nThank you!\nTim Reedy
URL:https://gunstuff.tv/event/bandera-steel-challenge-2026-04-18/
LOCATION:809 FM-1077\, Bandera Texas\, United States
END:VEVENT
END:VCALENDAR