BEGIN:VCALENDAR
VERSION:2.0
PRODID:-//GunStuff TV - ECPv6.15.20//NONSGML v1.0//EN
CALSCALE:GREGORIAN
METHOD:PUBLISH
X-ORIGINAL-URL:https://gunstuff.tv
X-WR-CALDESC:Events for GunStuff TV
REFRESH-INTERVAL;VALUE=DURATION:PT1H
X-Robots-Tag:noindex
X-PUBLISHED-TTL:PT1H
BEGIN:VTIMEZONE
TZID:UTC
BEGIN:STANDARD
TZOFFSETFROM:+0000
TZOFFSETTO:+0000
TZNAME:UTC
DTSTART:20250101T000000
END:STANDARD
END:VTIMEZONE
BEGIN:VEVENT
DTSTART;TZID=UTC:20260418T130000
DTEND;TZID=UTC:20260418T193000
DTSTAMP:20260424T073937
CREATED:20260414T200228Z
LAST-MODIFIED:20260414T200228Z
UID:10007806-1776517200-1776540600@gunstuff.tv
SUMMARY:ARPC April 2026
DESCRIPTION:ARPC Action Pistol matches consisting of 3-6 stages with about 100-110 rounds minimum round-count. Pistols and Pistol Caliber Carbines\, only.\nWe are not affiliated with any National Organization. They are strictly “Fun” Matches. Open to the public.
URL:https://gunstuff.tv/event/arpc-april-2026/
LOCATION:7650 N Western St\, Amarillo Tx\, United States
END:VEVENT
END:VCALENDAR