BEGIN:VCALENDAR
VERSION:2.0
PRODID:-//GunStuff TV - ECPv6.15.20//NONSGML v1.0//EN
CALSCALE:GREGORIAN
METHOD:PUBLISH
X-ORIGINAL-URL:https://gunstuff.tv
X-WR-CALDESC:Events for GunStuff TV
REFRESH-INTERVAL;VALUE=DURATION:PT1H
X-Robots-Tag:noindex
X-PUBLISHED-TTL:PT1H
BEGIN:VTIMEZONE
TZID:UTC
BEGIN:STANDARD
TZOFFSETFROM:+0000
TZOFFSETTO:+0000
TZNAME:UTC
DTSTART:20250101T000000
END:STANDARD
END:VTIMEZONE
BEGIN:VEVENT
DTSTART;TZID=UTC:20260425T030000
DTEND;TZID=UTC:20260425T173000
DTSTAMP:20260421T212532
CREATED:20260421T200326Z
LAST-MODIFIED:20260421T200326Z
UID:10008349-1777086000-1777138200@gunstuff.tv
SUMMARY:AIMSPORT CHALLENGE II Birthday Edition
DESCRIPTION:Aimsport 3rd Anniversary Match (english version below)\nИмаме удоволствието да ви поканим да отпразнуваме заедно третия рожден ден на Стрелкови спортен клуб Еймспорт със специално организирано състезание IPSC Level 1.\nОчаква ви динамичен и приятелски мач с разнообразни сцени\, добро настроение\, празнична атмосфера и\, разбира се\, томбола.\nДата: 25 април 2026 г.\nМясто: Стрелбище Благоевград Location: https://maps.app.goo.gl/bwH8XrVthSUQUpZv8\n Регистрация: 09:00 – 09:45\n Първи изстрел: 10:00\nMatch details:\nБрой сцени: 7\nМинимален брой изстрели: ~131\nМаксимален брой участници: 70\nТакса участие:\nСтандартна: 45 Euro\nЛейди: 25 Euro\nДжуниър: FREE\nТаксата включва барбекю\, напитки\, вода\, празнична торта и участие в томбола с награди.\nЗа участие е задължителна регистрация в платформата на Practiscore.\nИзбор на скуад и окончателно одобряване – след заплащане на таксата по банков път:\nСТРЕЛКОВИ СПОРТЕН КЛУБ ЕЙМСПОРТ СДРУЖЕНИЕ\nIBAN: BG97BPBI79421027210201\nBIC: BPBIBGSF\nОснование: Две имена и дата 25.04.2026.\nОчакваме ви\, за да празнуваме заедно!\nAimsport 3rd Anniversary Match\nWe are pleased to invite you to celebrate the 3rd anniversary of Aimsport Shooting Sports Club with a special IPSC Level I match.\nYou can expect a dynamic and friendly competition with diverse stages\, a great atmosphere\, festive spirit and\, of course\, a prize raffle.\nDate\n25 April 2026\nLocation\nBlagoevgrad Shooting Range\nLocation:\nhttps://maps.app.goo.gl/bwH8XrVthSUQUpZv8\nSchedule\nRegistration: 09:00 – 09:45\nFirst shot: 10:00\nMatch Details\nNumber of stages: 7\nMinimum round count: ~131\nMaximum number of competitors: 70\nMatch Fee\nStandard: 45 EUR\nLady: 25 EUR\nJunior: FREE\nThe match fee includes BBQ\, drinks\, water\, birthday cake and prizes. \nRegistration\nRegistration is required via the PractiScore platform.\nSquad selection and final approval will be confirmed after payment of the match fee via bank transfer.\nBank Details\nAIMSPORT SHOOTING SPORTS CLUB\nIBAN: BG97BPBI79421027210201\nBIC: BPBIBGSF\nPayment reference:\nYour first and last name + 25.04.2026\nWe look forward to celebrating 3 years of Aimsport together!
URL:https://gunstuff.tv/event/aimsport-challenge-ii-birthday-edition/
LOCATION:76 bulevard “Vitosha”\, BLAGOEVGRAD BLAGOEVGRAD\, Bulgaria
END:VEVENT
END:VCALENDAR