BEGIN:VCALENDAR
VERSION:2.0
PRODID:-//GunStuff TV - ECPv6.15.20//NONSGML v1.0//EN
CALSCALE:GREGORIAN
METHOD:PUBLISH
X-WR-CALNAME:GunStuff TV
X-ORIGINAL-URL:https://gunstuff.tv
X-WR-CALDESC:Events for GunStuff TV
REFRESH-INTERVAL;VALUE=DURATION:PT1H
X-Robots-Tag:noindex
X-PUBLISHED-TTL:PT1H
BEGIN:VTIMEZONE
TZID:UTC
BEGIN:STANDARD
TZOFFSETFROM:+0000
TZOFFSETTO:+0000
TZNAME:UTC
DTSTART:20250101T000000
END:STANDARD
END:VTIMEZONE
BEGIN:VEVENT
DTSTART;TZID=UTC:20260425T150000
DTEND;TZID=UTC:20260425T200000
DTSTAMP:20260424T085900
CREATED:20260421T200324Z
LAST-MODIFIED:20260421T200324Z
UID:10008329-1777129200-1777147200@gunstuff.tv
SUMMARY:KCSM IDPA 4-25-2026
DESCRIPTION:Monthly IDPA match held at Mill Creek Rifle Club.  Four stages.  Registration begins at 9:00am\, Shooters meeting begins at 10:00am.  $15 match fee for KCSM members\, $30 for non-members.  Shoot as many times as you want.  $10 for 2nd gun and any additional guns or reshoots.  Must be an IDPA national member after your 3rd match.
URL:https://gunstuff.tv/event/kcsm-idpa-4-25-2026/
LOCATION:7515 Gardner Rd.\, DeSoto KS\, United States
END:VEVENT
END:VCALENDAR