BEGIN:VCALENDAR
VERSION:2.0
PRODID:-//GunStuff TV - ECPv6.15.20//NONSGML v1.0//EN
CALSCALE:GREGORIAN
METHOD:PUBLISH
X-WR-CALNAME:GunStuff TV
X-ORIGINAL-URL:https://gunstuff.tv
X-WR-CALDESC:Events for GunStuff TV
REFRESH-INTERVAL;VALUE=DURATION:PT1H
X-Robots-Tag:noindex
X-PUBLISHED-TTL:PT1H
BEGIN:VTIMEZONE
TZID:UTC
BEGIN:STANDARD
TZOFFSETFROM:+0000
TZOFFSETTO:+0000
TZNAME:UTC
DTSTART:20250101T000000
END:STANDARD
END:VTIMEZONE
BEGIN:VEVENT
DTSTART;TZID=UTC:20260425T140000
DTEND;TZID=UTC:20260425T210000
DTSTAMP:20260421T173745
CREATED:20260421T200343Z
LAST-MODIFIED:20260421T200343Z
UID:10008504-1777125600-1777150800@gunstuff.tv
SUMMARY:North Bristol 3-Gun Saturday April 25th
DESCRIPTION:Monthly 3-Gun club matches.  All shooters must be present by 9 am to shoot.  Anyone arriving after 9 am\, will not shoot.  Go to Club House to register BEFORE coming down to the range.\nIf you don’t have the required pistol\, shotgun\, or rifle\, you can still shoot! Plenty of people are willing to loan their firearm to a competent shooter\, so long as you bring the ammo. These are the recommended ammo counts:\nPistol: 75 rounds FMJ 9mm\nRifle: 60 rounds .223 or 5.56 FMJ\nShotgun: 50 rounds #7.5 Birdshot or smaller
URL:https://gunstuff.tv/event/north-bristol-3-gun-saturday-april-25th/
LOCATION:7229 Greenway Rd\, Sun Prairie WI\, United States
END:VEVENT
END:VCALENDAR