BEGIN:VCALENDAR
VERSION:2.0
PRODID:-//GunStuff TV - ECPv6.15.20//NONSGML v1.0//EN
CALSCALE:GREGORIAN
METHOD:PUBLISH
X-WR-CALNAME:GunStuff TV
X-ORIGINAL-URL:https://gunstuff.tv
X-WR-CALDESC:Events for GunStuff TV
REFRESH-INTERVAL;VALUE=DURATION:PT1H
X-Robots-Tag:noindex
X-PUBLISHED-TTL:PT1H
BEGIN:VTIMEZONE
TZID:UTC
BEGIN:STANDARD
TZOFFSETFROM:+0000
TZOFFSETTO:+0000
TZNAME:UTC
DTSTART:20250101T000000
END:STANDARD
END:VTIMEZONE
BEGIN:VEVENT
DTSTART;TZID=UTC:20260417T110000
DTEND;TZID=UTC:20260420T013000
DTSTAMP:20260421T030253
CREATED:20260414T200207Z
LAST-MODIFIED:20260414T200207Z
UID:10007628-1776423600-1776648600@gunstuff.tv
SUMMARY:AREA 3 Steel Challenge Match Shirt 2026
DESCRIPTION:Match shirt for Area 3 Steel Challenge 2026\nOrder cutoff date is March 16th at 8am.\nSponsor logos on back may be subject to change.\nYour jersey will be available for pick up at the match check in desk.\nNo refunds on custom shirts.
URL:https://gunstuff.tv/event/area-3-steel-challenge-match-shirt-2026/
LOCATION:7215 Gardner Rd\, De Soto\, KS\, United States
GEO:38.946156;-94.97143
END:VEVENT
BEGIN:VEVENT
DTSTART;TZID=UTC:20260409T230000
DTEND;TZID=UTC:20260410T013000
DTSTAMP:20260421T030253
CREATED:20260407T195409Z
LAST-MODIFIED:20260407T195409Z
UID:10006973-1775775600-1775784600@gunstuff.tv
SUMMARY:MCPSL Intro to Steel Challenge Thursday evening 3 stage match 04-09-2026
DESCRIPTION:Introduction to Steel Challenge match at Mill Creek Rifle Club\, De Soto\, KS.  3 stages in the evening. Right now I am limiting registration to 1 gun\, depending on how squads fill up I will send out an email if adding a second gun is possible .  $10 match fee for adults\,  $5 each for a second gun if room allows.  Pre-teens and Juniors 13-17 $5 match fee for first gun.  Payment for now will be accepted at the range beginning at 5:00pm on match day Venmo is available.  New competitor orientation at 5:30pm.  Shooters meeting at 5:45pm.  Match begins at 6:00pm. We will try to keep squads together but it may be necessary to move shooters to make sure there are RO’s available on each squad. New shooters need to volunteer to learn how to run the tablet and or timer and everyone not on deck\, shooting\, or loading magazines needs to be helping paint. If everyone helps we should be able to finish a stage in approx 30 min to be able to finish in a timely manner.
URL:https://gunstuff.tv/event/mcpsl-intro-to-steel-challenge-thursday-evening-3-stage-match-04-09-2026/
LOCATION:7215 Gardner Rd\, De Soto\, KS\, United States
GEO:38.946156;-94.97143
END:VEVENT
END:VCALENDAR