BEGIN:VCALENDAR
VERSION:2.0
PRODID:-//GunStuff TV - ECPv6.15.20//NONSGML v1.0//EN
CALSCALE:GREGORIAN
METHOD:PUBLISH
X-WR-CALNAME:GunStuff TV
X-ORIGINAL-URL:https://gunstuff.tv
X-WR-CALDESC:Events for GunStuff TV
REFRESH-INTERVAL;VALUE=DURATION:PT1H
X-Robots-Tag:noindex
X-PUBLISHED-TTL:PT1H
BEGIN:VTIMEZONE
TZID:UTC
BEGIN:STANDARD
TZOFFSETFROM:+0000
TZOFFSETTO:+0000
TZNAME:UTC
DTSTART:20250101T000000
END:STANDARD
END:VTIMEZONE
BEGIN:VEVENT
DTSTART;TZID=UTC:20260425T140000
DTEND;TZID=UTC:20260425T190000
DTSTAMP:20260424T100254
CREATED:20260421T200320Z
LAST-MODIFIED:20260421T200320Z
UID:10008286-1777125600-1777143600@gunstuff.tv
SUMMARY:SCCSFA April Cowboy
DESCRIPTION:NOT A SASS sanctioned match but in the spirit of;\nCowboy Action Shooting Event on the 75-yard range.\nCowboy Action Shooting (CAS) is a sport where competitors fire cowboy era rifles\, pistols and shotguns at metal targets.\nFor this season\, CAS will be held every 4th  Saturday of the month from March to October\, weather permitting.\nMembers and guests sign-up is on the day of the shoot at the range. Members pay $5.00 and guest pay $10.00.\nShooting will start at 10:00 with  assisting with the set-up at 9:00 am. and a safety meeting at 9:45\nThe Cowboy Action event is an interactive sport where shooters help with scoring\, spotting\, and timing when they are not shooting. Additionally\, help is needed to tare down. The event coordinator would appreciate shooters arriving by 9:30 shooting starts at 10am.\nYou will need two single action revolvers with a holster. A lever action rifle chambered in a pistol caliber\, 38 Special\, 357 Magnum\, 45 Auto or Long Colt cartridge\, etc… and a tubular magazine for loading 8 to 10 rounds. Additionally\, a western style double-barrel shotgun is needed. Alternatively\, a Winchester Model 1897 can be used.\nYou will also need to wear Jeans\, a long sleeve western shirt\, cowboy boots or equivalent\, and a cowboy hat. Safety glasses and hearing protection are mandatory.\nIf you’re missing one of the above firearms\, we will try to connect you with a shooter that will lend you what you need when it’s your turn to shoot.\nA gun cart is handy but new shooters might ask someone with a cart to share. We will also have a table near the loading bench so you can store your firearms there.\nWe recommend 2 boxes of pistol caliber ammo for your revolver and rifle.\,  LEAD BULLETS ONLY\, and 1 box of shotgun shells (25 rounds) low brass\, light loads\, with no larger than #7 1/2 shot.
URL:https://gunstuff.tv/event/sccsfa-april-cowboy/
LOCATION:720 Sportsman Lane\, Kennett Square\, PA\, United States
GEO:39.867864;-75.716333
END:VEVENT
END:VCALENDAR